BEGIN:VCALENDAR
VERSION:2.0
PRODID:-//Visit the Berkshires of Western MA - ECPv6.15.20//NONSGML v1.0//EN
CALSCALE:GREGORIAN
METHOD:PUBLISH
X-WR-CALNAME:Visit the Berkshires of Western MA
X-ORIGINAL-URL:https://berkshires.org
X-WR-CALDESC:Events for Visit the Berkshires of Western MA
REFRESH-INTERVAL;VALUE=DURATION:PT1H
X-Robots-Tag:noindex
X-PUBLISHED-TTL:PT1H
BEGIN:VTIMEZONE
TZID:America/New_York
BEGIN:DAYLIGHT
TZOFFSETFROM:-0500
TZOFFSETTO:-0400
TZNAME:EDT
DTSTART:20250309T070000
END:DAYLIGHT
BEGIN:STANDARD
TZOFFSETFROM:-0400
TZOFFSETTO:-0500
TZNAME:EST
DTSTART:20251102T060000
END:STANDARD
BEGIN:DAYLIGHT
TZOFFSETFROM:-0500
TZOFFSETTO:-0400
TZNAME:EDT
DTSTART:20260308T070000
END:DAYLIGHT
BEGIN:STANDARD
TZOFFSETFROM:-0400
TZOFFSETTO:-0500
TZNAME:EST
DTSTART:20261101T060000
END:STANDARD
BEGIN:DAYLIGHT
TZOFFSETFROM:-0500
TZOFFSETTO:-0400
TZNAME:EDT
DTSTART:20270314T070000
END:DAYLIGHT
BEGIN:STANDARD
TZOFFSETFROM:-0400
TZOFFSETTO:-0500
TZNAME:EST
DTSTART:20271107T060000
END:STANDARD
END:VTIMEZONE
BEGIN:VEVENT
DTSTART;TZID=America/New_York:20260523T133000
DTEND;TZID=America/New_York:20260523T163000
DTSTAMP:20260425T123828
CREATED:20260423T193041Z
LAST-MODIFIED:20260423T194049Z
UID:10041204-1779543000-1779553800@berkshires.org
SUMMARY:Saggar Swagger: Intro to Saggar Firing
DESCRIPTION:This is a two-day class. Discover the ancient and unpredictable art of saggar firing in this immersive workshop. Historically used in ancient China to protect ceramic wares from ash and debris in wood kilns\, the saggar – a lidded ceramic container – is used today as a vessel to trap atmospheric effects around a pot.  Day 1: Preparation & Firing from 1:30-4:30 pm (3 Hours). We begin with a brief dive into the history and evolution of this unique technique before getting hands-on. Using a variety of organic materials and chemical colorants\, students will wrap their bisqueware to create specific ‘fuming’ effects. Once prepared\, pieces are nestled into saggars and loaded into our outdoor kiln for a transformative firing session which takes about an hour.  Day 2: The Reveal from 1:30-2:30 pm (1 hour\, outdoors). The magic of saggar firing is truly found in the unveiling. We will gather the following day to unload the kiln and open the saggars.
URL:https://berkshires.org/events/saggar-swagger-intro-to-saggar-firing/2026-05-23/
LOCATION:Berkshire Art Center\, 13 Willard Hill Road\, Stockbridge\, MA\, 01262\, United States
CATEGORIES:ArtWeek Berkshires Event
ATTACH;FMTTYPE=image/png:https://berkshires.org/wp-content/uploads/2026/04/saggar.png
ORGANIZER;CN="Berkshire Art Center":MAILTO:lucie@is183.org
GEO:42.3162857;-73.3311007
X-APPLE-STRUCTURED-LOCATION;VALUE=URI;X-ADDRESS=Berkshire Art Center 13 Willard Hill Road Stockbridge MA 01262 United States;X-APPLE-RADIUS=500;X-TITLE=13 Willard Hill Road:geo:-73.3311007,42.3162857
END:VEVENT
BEGIN:VEVENT
DTSTART;TZID=America/New_York:20260524T133000
DTEND;TZID=America/New_York:20260524T163000
DTSTAMP:20260425T123828
CREATED:20260423T193041Z
LAST-MODIFIED:20260423T194049Z
UID:10041205-1779629400-1779640200@berkshires.org
SUMMARY:Saggar Swagger: Intro to Saggar Firing
DESCRIPTION:This is a two-day class. Discover the ancient and unpredictable art of saggar firing in this immersive workshop. Historically used in ancient China to protect ceramic wares from ash and debris in wood kilns\, the saggar – a lidded ceramic container – is used today as a vessel to trap atmospheric effects around a pot.  Day 1: Preparation & Firing from 1:30-4:30 pm (3 Hours). We begin with a brief dive into the history and evolution of this unique technique before getting hands-on. Using a variety of organic materials and chemical colorants\, students will wrap their bisqueware to create specific ‘fuming’ effects. Once prepared\, pieces are nestled into saggars and loaded into our outdoor kiln for a transformative firing session which takes about an hour.  Day 2: The Reveal from 1:30-2:30 pm (1 hour\, outdoors). The magic of saggar firing is truly found in the unveiling. We will gather the following day to unload the kiln and open the saggars.
URL:https://berkshires.org/events/saggar-swagger-intro-to-saggar-firing/2026-05-24/
LOCATION:Berkshire Art Center\, 13 Willard Hill Road\, Stockbridge\, MA\, 01262\, United States
CATEGORIES:ArtWeek Berkshires Event
ATTACH;FMTTYPE=image/png:https://berkshires.org/wp-content/uploads/2026/04/saggar.png
ORGANIZER;CN="Berkshire Art Center":MAILTO:lucie@is183.org
GEO:42.3162857;-73.3311007
X-APPLE-STRUCTURED-LOCATION;VALUE=URI;X-ADDRESS=Berkshire Art Center 13 Willard Hill Road Stockbridge MA 01262 United States;X-APPLE-RADIUS=500;X-TITLE=13 Willard Hill Road:geo:-73.3311007,42.3162857
END:VEVENT
END:VCALENDAR