BEGIN:VCALENDAR
VERSION:2.0
PRODID:-//Visit the Berkshires of Western MA - ECPv6.15.20//NONSGML v1.0//EN
CALSCALE:GREGORIAN
METHOD:PUBLISH
X-WR-CALNAME:Visit the Berkshires of Western MA
X-ORIGINAL-URL:https://berkshires.org
X-WR-CALDESC:Events for Visit the Berkshires of Western MA
REFRESH-INTERVAL;VALUE=DURATION:PT1H
X-Robots-Tag:noindex
X-PUBLISHED-TTL:PT1H
BEGIN:VTIMEZONE
TZID:America/New_York
BEGIN:DAYLIGHT
TZOFFSETFROM:-0500
TZOFFSETTO:-0400
TZNAME:EDT
DTSTART:20250309T070000
END:DAYLIGHT
BEGIN:STANDARD
TZOFFSETFROM:-0400
TZOFFSETTO:-0500
TZNAME:EST
DTSTART:20251102T060000
END:STANDARD
BEGIN:DAYLIGHT
TZOFFSETFROM:-0500
TZOFFSETTO:-0400
TZNAME:EDT
DTSTART:20260308T070000
END:DAYLIGHT
BEGIN:STANDARD
TZOFFSETFROM:-0400
TZOFFSETTO:-0500
TZNAME:EST
DTSTART:20261101T060000
END:STANDARD
BEGIN:DAYLIGHT
TZOFFSETFROM:-0500
TZOFFSETTO:-0400
TZNAME:EDT
DTSTART:20270314T070000
END:DAYLIGHT
BEGIN:STANDARD
TZOFFSETFROM:-0400
TZOFFSETTO:-0500
TZNAME:EST
DTSTART:20271107T060000
END:STANDARD
END:VTIMEZONE
BEGIN:VEVENT
DTSTART;TZID=America/New_York:20260710T200000
DTEND;TZID=America/New_York:20260710T220000
DTSTAMP:20260425T135758
CREATED:20260423T152753Z
LAST-MODIFIED:20260423T152753Z
UID:10040671-1783713600-1783720800@berkshires.org
SUMMARY:Ghost Tours of The Mount
DESCRIPTION:Feel a tingle down your spine as our guides lead you through The Mount’s darkened halls\, sharing stories of the many eerie encounters that have been reported over the years. Ghost tours start in July and continue through Halloween! Advance registration is required.
URL:https://berkshires.org/events/ghost-tours-of-the-mount/2026-07-10/
LOCATION:The Mount\, Edith Wharton’s Home\, 2 Plunkett Street\, Lenox\, MA\, 01240\, United States
CATEGORIES:Performing Arts & Entertainment
ATTACH;FMTTYPE=image/jpeg:https://berkshires.org/wp-content/uploads/2026/04/The-Mount-at-Night.jpg
ORGANIZER;CN="The Mount%2C Edith Wharton's Home":MAILTO:info@edithwharton.org
GEO:42.3310176;-73.2820429
X-APPLE-STRUCTURED-LOCATION;VALUE=URI;X-ADDRESS=The Mount Edith Wharton’s Home 2 Plunkett Street Lenox MA 01240 United States;X-APPLE-RADIUS=500;X-TITLE=2 Plunkett Street:geo:-73.2820429,42.3310176
END:VEVENT
BEGIN:VEVENT
DTSTART;TZID=America/New_York:20260717T200000
DTEND;TZID=America/New_York:20260717T220000
DTSTAMP:20260425T135758
CREATED:20260423T152753Z
LAST-MODIFIED:20260423T152753Z
UID:10040672-1784318400-1784325600@berkshires.org
SUMMARY:Ghost Tours of The Mount
DESCRIPTION:Feel a tingle down your spine as our guides lead you through The Mount’s darkened halls\, sharing stories of the many eerie encounters that have been reported over the years. Ghost tours start in July and continue through Halloween! Advance registration is required.
URL:https://berkshires.org/events/ghost-tours-of-the-mount/2026-07-17/
LOCATION:The Mount\, Edith Wharton’s Home\, 2 Plunkett Street\, Lenox\, MA\, 01240\, United States
CATEGORIES:Performing Arts & Entertainment
ATTACH;FMTTYPE=image/jpeg:https://berkshires.org/wp-content/uploads/2026/04/The-Mount-at-Night.jpg
ORGANIZER;CN="The Mount%2C Edith Wharton's Home":MAILTO:info@edithwharton.org
GEO:42.3310176;-73.2820429
X-APPLE-STRUCTURED-LOCATION;VALUE=URI;X-ADDRESS=The Mount Edith Wharton’s Home 2 Plunkett Street Lenox MA 01240 United States;X-APPLE-RADIUS=500;X-TITLE=2 Plunkett Street:geo:-73.2820429,42.3310176
END:VEVENT
BEGIN:VEVENT
DTSTART;TZID=America/New_York:20260724T200000
DTEND;TZID=America/New_York:20260724T220000
DTSTAMP:20260425T135758
CREATED:20260423T152753Z
LAST-MODIFIED:20260423T152753Z
UID:10040673-1784923200-1784930400@berkshires.org
SUMMARY:Ghost Tours of The Mount
DESCRIPTION:Feel a tingle down your spine as our guides lead you through The Mount’s darkened halls\, sharing stories of the many eerie encounters that have been reported over the years. Ghost tours start in July and continue through Halloween! Advance registration is required.
URL:https://berkshires.org/events/ghost-tours-of-the-mount/2026-07-24/
LOCATION:The Mount\, Edith Wharton’s Home\, 2 Plunkett Street\, Lenox\, MA\, 01240\, United States
CATEGORIES:Performing Arts & Entertainment
ATTACH;FMTTYPE=image/jpeg:https://berkshires.org/wp-content/uploads/2026/04/The-Mount-at-Night.jpg
ORGANIZER;CN="The Mount%2C Edith Wharton's Home":MAILTO:info@edithwharton.org
GEO:42.3310176;-73.2820429
X-APPLE-STRUCTURED-LOCATION;VALUE=URI;X-ADDRESS=The Mount Edith Wharton’s Home 2 Plunkett Street Lenox MA 01240 United States;X-APPLE-RADIUS=500;X-TITLE=2 Plunkett Street:geo:-73.2820429,42.3310176
END:VEVENT
BEGIN:VEVENT
DTSTART;TZID=America/New_York:20260731T200000
DTEND;TZID=America/New_York:20260731T220000
DTSTAMP:20260425T135758
CREATED:20260423T152753Z
LAST-MODIFIED:20260423T152753Z
UID:10040674-1785528000-1785535200@berkshires.org
SUMMARY:Ghost Tours of The Mount
DESCRIPTION:Feel a tingle down your spine as our guides lead you through The Mount’s darkened halls\, sharing stories of the many eerie encounters that have been reported over the years. Ghost tours start in July and continue through Halloween! Advance registration is required.
URL:https://berkshires.org/events/ghost-tours-of-the-mount/2026-07-31/
LOCATION:The Mount\, Edith Wharton’s Home\, 2 Plunkett Street\, Lenox\, MA\, 01240\, United States
CATEGORIES:Performing Arts & Entertainment
ATTACH;FMTTYPE=image/jpeg:https://berkshires.org/wp-content/uploads/2026/04/The-Mount-at-Night.jpg
ORGANIZER;CN="The Mount%2C Edith Wharton's Home":MAILTO:info@edithwharton.org
GEO:42.3310176;-73.2820429
X-APPLE-STRUCTURED-LOCATION;VALUE=URI;X-ADDRESS=The Mount Edith Wharton’s Home 2 Plunkett Street Lenox MA 01240 United States;X-APPLE-RADIUS=500;X-TITLE=2 Plunkett Street:geo:-73.2820429,42.3310176
END:VEVENT
BEGIN:VEVENT
DTSTART;TZID=America/New_York:20260807T200000
DTEND;TZID=America/New_York:20260807T220000
DTSTAMP:20260425T135758
CREATED:20260423T152753Z
LAST-MODIFIED:20260423T152753Z
UID:10040675-1786132800-1786140000@berkshires.org
SUMMARY:Ghost Tours of The Mount
DESCRIPTION:Feel a tingle down your spine as our guides lead you through The Mount’s darkened halls\, sharing stories of the many eerie encounters that have been reported over the years. Ghost tours start in July and continue through Halloween! Advance registration is required.
URL:https://berkshires.org/events/ghost-tours-of-the-mount/2026-08-07/
LOCATION:The Mount\, Edith Wharton’s Home\, 2 Plunkett Street\, Lenox\, MA\, 01240\, United States
CATEGORIES:Performing Arts & Entertainment
ATTACH;FMTTYPE=image/jpeg:https://berkshires.org/wp-content/uploads/2026/04/The-Mount-at-Night.jpg
ORGANIZER;CN="The Mount%2C Edith Wharton's Home":MAILTO:info@edithwharton.org
GEO:42.3310176;-73.2820429
X-APPLE-STRUCTURED-LOCATION;VALUE=URI;X-ADDRESS=The Mount Edith Wharton’s Home 2 Plunkett Street Lenox MA 01240 United States;X-APPLE-RADIUS=500;X-TITLE=2 Plunkett Street:geo:-73.2820429,42.3310176
END:VEVENT
BEGIN:VEVENT
DTSTART;TZID=America/New_York:20260814T200000
DTEND;TZID=America/New_York:20260814T220000
DTSTAMP:20260425T135758
CREATED:20260423T152753Z
LAST-MODIFIED:20260423T152753Z
UID:10040676-1786737600-1786744800@berkshires.org
SUMMARY:Ghost Tours of The Mount
DESCRIPTION:Feel a tingle down your spine as our guides lead you through The Mount’s darkened halls\, sharing stories of the many eerie encounters that have been reported over the years. Ghost tours start in July and continue through Halloween! Advance registration is required.
URL:https://berkshires.org/events/ghost-tours-of-the-mount/2026-08-14/
LOCATION:The Mount\, Edith Wharton’s Home\, 2 Plunkett Street\, Lenox\, MA\, 01240\, United States
CATEGORIES:Performing Arts & Entertainment
ATTACH;FMTTYPE=image/jpeg:https://berkshires.org/wp-content/uploads/2026/04/The-Mount-at-Night.jpg
ORGANIZER;CN="The Mount%2C Edith Wharton's Home":MAILTO:info@edithwharton.org
GEO:42.3310176;-73.2820429
X-APPLE-STRUCTURED-LOCATION;VALUE=URI;X-ADDRESS=The Mount Edith Wharton’s Home 2 Plunkett Street Lenox MA 01240 United States;X-APPLE-RADIUS=500;X-TITLE=2 Plunkett Street:geo:-73.2820429,42.3310176
END:VEVENT
BEGIN:VEVENT
DTSTART;TZID=America/New_York:20260821T200000
DTEND;TZID=America/New_York:20260821T220000
DTSTAMP:20260425T135758
CREATED:20260423T152753Z
LAST-MODIFIED:20260423T152753Z
UID:10040677-1787342400-1787349600@berkshires.org
SUMMARY:Ghost Tours of The Mount
DESCRIPTION:Feel a tingle down your spine as our guides lead you through The Mount’s darkened halls\, sharing stories of the many eerie encounters that have been reported over the years. Ghost tours start in July and continue through Halloween! Advance registration is required.
URL:https://berkshires.org/events/ghost-tours-of-the-mount/2026-08-21/
LOCATION:The Mount\, Edith Wharton’s Home\, 2 Plunkett Street\, Lenox\, MA\, 01240\, United States
CATEGORIES:Performing Arts & Entertainment
ATTACH;FMTTYPE=image/jpeg:https://berkshires.org/wp-content/uploads/2026/04/The-Mount-at-Night.jpg
ORGANIZER;CN="The Mount%2C Edith Wharton's Home":MAILTO:info@edithwharton.org
GEO:42.3310176;-73.2820429
X-APPLE-STRUCTURED-LOCATION;VALUE=URI;X-ADDRESS=The Mount Edith Wharton’s Home 2 Plunkett Street Lenox MA 01240 United States;X-APPLE-RADIUS=500;X-TITLE=2 Plunkett Street:geo:-73.2820429,42.3310176
END:VEVENT
BEGIN:VEVENT
DTSTART;TZID=America/New_York:20260828T200000
DTEND;TZID=America/New_York:20260828T220000
DTSTAMP:20260425T135758
CREATED:20260423T152753Z
LAST-MODIFIED:20260423T152753Z
UID:10040678-1787947200-1787954400@berkshires.org
SUMMARY:Ghost Tours of The Mount
DESCRIPTION:Feel a tingle down your spine as our guides lead you through The Mount’s darkened halls\, sharing stories of the many eerie encounters that have been reported over the years. Ghost tours start in July and continue through Halloween! Advance registration is required.
URL:https://berkshires.org/events/ghost-tours-of-the-mount/2026-08-28/
LOCATION:The Mount\, Edith Wharton’s Home\, 2 Plunkett Street\, Lenox\, MA\, 01240\, United States
CATEGORIES:Performing Arts & Entertainment
ATTACH;FMTTYPE=image/jpeg:https://berkshires.org/wp-content/uploads/2026/04/The-Mount-at-Night.jpg
ORGANIZER;CN="The Mount%2C Edith Wharton's Home":MAILTO:info@edithwharton.org
GEO:42.3310176;-73.2820429
X-APPLE-STRUCTURED-LOCATION;VALUE=URI;X-ADDRESS=The Mount Edith Wharton’s Home 2 Plunkett Street Lenox MA 01240 United States;X-APPLE-RADIUS=500;X-TITLE=2 Plunkett Street:geo:-73.2820429,42.3310176
END:VEVENT
END:VCALENDAR