BEGIN:VCALENDAR
VERSION:2.0
PRODID:-//Visit the Berkshires of Western MA - ECPv6.15.20//NONSGML v1.0//EN
CALSCALE:GREGORIAN
METHOD:PUBLISH
X-WR-CALNAME:Visit the Berkshires of Western MA
X-ORIGINAL-URL:https://berkshires.org
X-WR-CALDESC:Events for Visit the Berkshires of Western MA
REFRESH-INTERVAL;VALUE=DURATION:PT1H
X-Robots-Tag:noindex
X-PUBLISHED-TTL:PT1H
BEGIN:VTIMEZONE
TZID:America/New_York
BEGIN:DAYLIGHT
TZOFFSETFROM:-0500
TZOFFSETTO:-0400
TZNAME:EDT
DTSTART:20250309T070000
END:DAYLIGHT
BEGIN:STANDARD
TZOFFSETFROM:-0400
TZOFFSETTO:-0500
TZNAME:EST
DTSTART:20251102T060000
END:STANDARD
BEGIN:DAYLIGHT
TZOFFSETFROM:-0500
TZOFFSETTO:-0400
TZNAME:EDT
DTSTART:20260308T070000
END:DAYLIGHT
BEGIN:STANDARD
TZOFFSETFROM:-0400
TZOFFSETTO:-0500
TZNAME:EST
DTSTART:20261101T060000
END:STANDARD
BEGIN:DAYLIGHT
TZOFFSETFROM:-0500
TZOFFSETTO:-0400
TZNAME:EDT
DTSTART:20270314T070000
END:DAYLIGHT
BEGIN:STANDARD
TZOFFSETFROM:-0400
TZOFFSETTO:-0500
TZNAME:EST
DTSTART:20271107T060000
END:STANDARD
BEGIN:DAYLIGHT
TZOFFSETFROM:-0500
TZOFFSETTO:-0400
TZNAME:EDT
DTSTART:20280312T070000
END:DAYLIGHT
BEGIN:STANDARD
TZOFFSETFROM:-0400
TZOFFSETTO:-0500
TZNAME:EST
DTSTART:20281105T060000
END:STANDARD
END:VTIMEZONE
BEGIN:VEVENT
DTSTART;TZID=America/New_York:20260602T100000
DTEND;TZID=America/New_York:20260602T110000
DTSTAMP:20260423T112451
CREATED:20260422T182801Z
LAST-MODIFIED:20260422T182801Z
UID:10040623-1780394400-1780398000@berkshires.org
SUMMARY:StoryTime at the StoryWalk
DESCRIPTION:On the first Tuesday of each month\, stories come alive on the StoryWalk with South Berkshire Kids! Families are invited to gather at the top of the StoryWalk trail for a lively read-aloud\, then grab a seat at the craft table for a hands-on activity or continue the adventure by exploring The Mount’s trails and colorful gardens.\nJune: Grandmother Moon\nJuly: Rus and Moose\nAugust: Baby Ballena\nSeptember: Willow and the Storm
URL:https://berkshires.org/events/storytime-at-the-storywalk/2026-06-02/
LOCATION:The Mount\, Edith Wharton’s Home\, 2 Plunkett Street\, Lenox\, MA\, 01240\, United States
CATEGORIES:Class, Workshop, and Open Studios,Family Friendly
ATTACH;FMTTYPE=image/jpeg:https://berkshires.org/wp-content/uploads/2023/03/mount-lenox-chamber-eblast-2023-2high-res.jpg
ORGANIZER;CN="The Mount%2C Edith Wharton's Home":MAILTO:info@edithwharton.org
GEO:42.3310176;-73.2820429
X-APPLE-STRUCTURED-LOCATION;VALUE=URI;X-ADDRESS=The Mount Edith Wharton’s Home 2 Plunkett Street Lenox MA 01240 United States;X-APPLE-RADIUS=500;X-TITLE=2 Plunkett Street:geo:-73.2820429,42.3310176
END:VEVENT
BEGIN:VEVENT
DTSTART;TZID=America/New_York:20260707T100000
DTEND;TZID=America/New_York:20260707T110000
DTSTAMP:20260423T112451
CREATED:20260422T182801Z
LAST-MODIFIED:20260422T182801Z
UID:10040624-1783418400-1783422000@berkshires.org
SUMMARY:StoryTime at the StoryWalk
DESCRIPTION:On the first Tuesday of each month\, stories come alive on the StoryWalk with South Berkshire Kids! Families are invited to gather at the top of the StoryWalk trail for a lively read-aloud\, then grab a seat at the craft table for a hands-on activity or continue the adventure by exploring The Mount’s trails and colorful gardens.\nJune: Grandmother Moon\nJuly: Rus and Moose\nAugust: Baby Ballena\nSeptember: Willow and the Storm
URL:https://berkshires.org/events/storytime-at-the-storywalk/2026-07-07/
LOCATION:The Mount\, Edith Wharton’s Home\, 2 Plunkett Street\, Lenox\, MA\, 01240\, United States
CATEGORIES:Class, Workshop, and Open Studios,Family Friendly
ATTACH;FMTTYPE=image/jpeg:https://berkshires.org/wp-content/uploads/2023/03/mount-lenox-chamber-eblast-2023-2high-res.jpg
ORGANIZER;CN="The Mount%2C Edith Wharton's Home":MAILTO:info@edithwharton.org
GEO:42.3310176;-73.2820429
X-APPLE-STRUCTURED-LOCATION;VALUE=URI;X-ADDRESS=The Mount Edith Wharton’s Home 2 Plunkett Street Lenox MA 01240 United States;X-APPLE-RADIUS=500;X-TITLE=2 Plunkett Street:geo:-73.2820429,42.3310176
END:VEVENT
BEGIN:VEVENT
DTSTART;TZID=America/New_York:20260804T100000
DTEND;TZID=America/New_York:20260804T110000
DTSTAMP:20260423T112451
CREATED:20260422T182801Z
LAST-MODIFIED:20260422T182801Z
UID:10040625-1785837600-1785841200@berkshires.org
SUMMARY:StoryTime at the StoryWalk
DESCRIPTION:On the first Tuesday of each month\, stories come alive on the StoryWalk with South Berkshire Kids! Families are invited to gather at the top of the StoryWalk trail for a lively read-aloud\, then grab a seat at the craft table for a hands-on activity or continue the adventure by exploring The Mount’s trails and colorful gardens.\nJune: Grandmother Moon\nJuly: Rus and Moose\nAugust: Baby Ballena\nSeptember: Willow and the Storm
URL:https://berkshires.org/events/storytime-at-the-storywalk/2026-08-04/
LOCATION:The Mount\, Edith Wharton’s Home\, 2 Plunkett Street\, Lenox\, MA\, 01240\, United States
CATEGORIES:Class, Workshop, and Open Studios,Family Friendly
ATTACH;FMTTYPE=image/jpeg:https://berkshires.org/wp-content/uploads/2023/03/mount-lenox-chamber-eblast-2023-2high-res.jpg
ORGANIZER;CN="The Mount%2C Edith Wharton's Home":MAILTO:info@edithwharton.org
GEO:42.3310176;-73.2820429
X-APPLE-STRUCTURED-LOCATION;VALUE=URI;X-ADDRESS=The Mount Edith Wharton’s Home 2 Plunkett Street Lenox MA 01240 United States;X-APPLE-RADIUS=500;X-TITLE=2 Plunkett Street:geo:-73.2820429,42.3310176
END:VEVENT
BEGIN:VEVENT
DTSTART;TZID=America/New_York:20260901T080000
DTEND;TZID=America/New_York:20260901T170000
DTSTAMP:20260423T112451
CREATED:20260422T182801Z
LAST-MODIFIED:20260422T182801Z
UID:10040626-1788249600-1788282000@berkshires.org
SUMMARY:StoryTime at the StoryWalk
DESCRIPTION:On the first Tuesday of each month\, stories come alive on the StoryWalk with South Berkshire Kids! Families are invited to gather at the top of the StoryWalk trail for a lively read-aloud\, then grab a seat at the craft table for a hands-on activity or continue the adventure by exploring The Mount’s trails and colorful gardens.\nJune: Grandmother Moon\nJuly: Rus and Moose\nAugust: Baby Ballena\nSeptember: Willow and the Storm
URL:https://berkshires.org/events/storytime-at-the-storywalk/2026-09-01/1/
LOCATION:The Mount\, Edith Wharton’s Home\, 2 Plunkett Street\, Lenox\, MA\, 01240\, United States
CATEGORIES:Class, Workshop, and Open Studios,Family Friendly
ATTACH;FMTTYPE=image/jpeg:https://berkshires.org/wp-content/uploads/2023/03/mount-lenox-chamber-eblast-2023-2high-res.jpg
ORGANIZER;CN="The Mount%2C Edith Wharton's Home":MAILTO:info@edithwharton.org
GEO:42.3310176;-73.2820429
X-APPLE-STRUCTURED-LOCATION;VALUE=URI;X-ADDRESS=The Mount Edith Wharton’s Home 2 Plunkett Street Lenox MA 01240 United States;X-APPLE-RADIUS=500;X-TITLE=2 Plunkett Street:geo:-73.2820429,42.3310176
END:VEVENT
BEGIN:VEVENT
DTSTART;TZID=America/New_York:20260901T100000
DTEND;TZID=America/New_York:20260901T110000
DTSTAMP:20260423T112451
CREATED:20260422T182801Z
LAST-MODIFIED:20260422T182801Z
UID:10040627-1788256800-1788260400@berkshires.org
SUMMARY:StoryTime at the StoryWalk
DESCRIPTION:On the first Tuesday of each month\, stories come alive on the StoryWalk with South Berkshire Kids! Families are invited to gather at the top of the StoryWalk trail for a lively read-aloud\, then grab a seat at the craft table for a hands-on activity or continue the adventure by exploring The Mount’s trails and colorful gardens.\nJune: Grandmother Moon\nJuly: Rus and Moose\nAugust: Baby Ballena\nSeptember: Willow and the Storm
URL:https://berkshires.org/events/storytime-at-the-storywalk/2026-09-01/2/
LOCATION:The Mount\, Edith Wharton’s Home\, 2 Plunkett Street\, Lenox\, MA\, 01240\, United States
CATEGORIES:Class, Workshop, and Open Studios,Family Friendly
ATTACH;FMTTYPE=image/jpeg:https://berkshires.org/wp-content/uploads/2023/03/mount-lenox-chamber-eblast-2023-2high-res.jpg
ORGANIZER;CN="The Mount%2C Edith Wharton's Home":MAILTO:info@edithwharton.org
GEO:42.3310176;-73.2820429
X-APPLE-STRUCTURED-LOCATION;VALUE=URI;X-ADDRESS=The Mount Edith Wharton’s Home 2 Plunkett Street Lenox MA 01240 United States;X-APPLE-RADIUS=500;X-TITLE=2 Plunkett Street:geo:-73.2820429,42.3310176
END:VEVENT
BEGIN:VEVENT
DTSTART;TZID=America/New_York:20261006T100000
DTEND;TZID=America/New_York:20261006T110000
DTSTAMP:20260423T112451
CREATED:20260422T182801Z
LAST-MODIFIED:20260422T182801Z
UID:10040628-1791280800-1791284400@berkshires.org
SUMMARY:StoryTime at the StoryWalk
DESCRIPTION:On the first Tuesday of each month\, stories come alive on the StoryWalk with South Berkshire Kids! Families are invited to gather at the top of the StoryWalk trail for a lively read-aloud\, then grab a seat at the craft table for a hands-on activity or continue the adventure by exploring The Mount’s trails and colorful gardens.\nJune: Grandmother Moon\nJuly: Rus and Moose\nAugust: Baby Ballena\nSeptember: Willow and the Storm
URL:https://berkshires.org/events/storytime-at-the-storywalk/2026-10-06/
LOCATION:The Mount\, Edith Wharton’s Home\, 2 Plunkett Street\, Lenox\, MA\, 01240\, United States
CATEGORIES:Class, Workshop, and Open Studios,Family Friendly
ATTACH;FMTTYPE=image/jpeg:https://berkshires.org/wp-content/uploads/2023/03/mount-lenox-chamber-eblast-2023-2high-res.jpg
ORGANIZER;CN="The Mount%2C Edith Wharton's Home":MAILTO:info@edithwharton.org
GEO:42.3310176;-73.2820429
X-APPLE-STRUCTURED-LOCATION;VALUE=URI;X-ADDRESS=The Mount Edith Wharton’s Home 2 Plunkett Street Lenox MA 01240 United States;X-APPLE-RADIUS=500;X-TITLE=2 Plunkett Street:geo:-73.2820429,42.3310176
END:VEVENT
BEGIN:VEVENT
DTSTART;TZID=America/New_York:20261103T100000
DTEND;TZID=America/New_York:20261103T110000
DTSTAMP:20260423T112451
CREATED:20260422T182801Z
LAST-MODIFIED:20260422T182801Z
UID:10040629-1793700000-1793703600@berkshires.org
SUMMARY:StoryTime at the StoryWalk
DESCRIPTION:On the first Tuesday of each month\, stories come alive on the StoryWalk with South Berkshire Kids! Families are invited to gather at the top of the StoryWalk trail for a lively read-aloud\, then grab a seat at the craft table for a hands-on activity or continue the adventure by exploring The Mount’s trails and colorful gardens.\nJune: Grandmother Moon\nJuly: Rus and Moose\nAugust: Baby Ballena\nSeptember: Willow and the Storm
URL:https://berkshires.org/events/storytime-at-the-storywalk/2026-11-03/
LOCATION:The Mount\, Edith Wharton’s Home\, 2 Plunkett Street\, Lenox\, MA\, 01240\, United States
CATEGORIES:Class, Workshop, and Open Studios,Family Friendly
ATTACH;FMTTYPE=image/jpeg:https://berkshires.org/wp-content/uploads/2023/03/mount-lenox-chamber-eblast-2023-2high-res.jpg
ORGANIZER;CN="The Mount%2C Edith Wharton's Home":MAILTO:info@edithwharton.org
GEO:42.3310176;-73.2820429
X-APPLE-STRUCTURED-LOCATION;VALUE=URI;X-ADDRESS=The Mount Edith Wharton’s Home 2 Plunkett Street Lenox MA 01240 United States;X-APPLE-RADIUS=500;X-TITLE=2 Plunkett Street:geo:-73.2820429,42.3310176
END:VEVENT
BEGIN:VEVENT
DTSTART;TZID=America/New_York:20261201T100000
DTEND;TZID=America/New_York:20261201T110000
DTSTAMP:20260423T112451
CREATED:20260422T182801Z
LAST-MODIFIED:20260422T182801Z
UID:10040630-1796119200-1796122800@berkshires.org
SUMMARY:StoryTime at the StoryWalk
DESCRIPTION:On the first Tuesday of each month\, stories come alive on the StoryWalk with South Berkshire Kids! Families are invited to gather at the top of the StoryWalk trail for a lively read-aloud\, then grab a seat at the craft table for a hands-on activity or continue the adventure by exploring The Mount’s trails and colorful gardens.\nJune: Grandmother Moon\nJuly: Rus and Moose\nAugust: Baby Ballena\nSeptember: Willow and the Storm
URL:https://berkshires.org/events/storytime-at-the-storywalk/2026-12-01/
LOCATION:The Mount\, Edith Wharton’s Home\, 2 Plunkett Street\, Lenox\, MA\, 01240\, United States
CATEGORIES:Class, Workshop, and Open Studios,Family Friendly
ATTACH;FMTTYPE=image/jpeg:https://berkshires.org/wp-content/uploads/2023/03/mount-lenox-chamber-eblast-2023-2high-res.jpg
ORGANIZER;CN="The Mount%2C Edith Wharton's Home":MAILTO:info@edithwharton.org
GEO:42.3310176;-73.2820429
X-APPLE-STRUCTURED-LOCATION;VALUE=URI;X-ADDRESS=The Mount Edith Wharton’s Home 2 Plunkett Street Lenox MA 01240 United States;X-APPLE-RADIUS=500;X-TITLE=2 Plunkett Street:geo:-73.2820429,42.3310176
END:VEVENT
BEGIN:VEVENT
DTSTART;TZID=America/New_York:20270105T100000
DTEND;TZID=America/New_York:20270105T110000
DTSTAMP:20260423T112451
CREATED:20260422T182801Z
LAST-MODIFIED:20260422T182801Z
UID:10040631-1799143200-1799146800@berkshires.org
SUMMARY:StoryTime at the StoryWalk
DESCRIPTION:On the first Tuesday of each month\, stories come alive on the StoryWalk with South Berkshire Kids! Families are invited to gather at the top of the StoryWalk trail for a lively read-aloud\, then grab a seat at the craft table for a hands-on activity or continue the adventure by exploring The Mount’s trails and colorful gardens.\nJune: Grandmother Moon\nJuly: Rus and Moose\nAugust: Baby Ballena\nSeptember: Willow and the Storm
URL:https://berkshires.org/events/storytime-at-the-storywalk/2027-01-05/
LOCATION:The Mount\, Edith Wharton’s Home\, 2 Plunkett Street\, Lenox\, MA\, 01240\, United States
CATEGORIES:Class, Workshop, and Open Studios,Family Friendly
ATTACH;FMTTYPE=image/jpeg:https://berkshires.org/wp-content/uploads/2023/03/mount-lenox-chamber-eblast-2023-2high-res.jpg
ORGANIZER;CN="The Mount%2C Edith Wharton's Home":MAILTO:info@edithwharton.org
GEO:42.3310176;-73.2820429
X-APPLE-STRUCTURED-LOCATION;VALUE=URI;X-ADDRESS=The Mount Edith Wharton’s Home 2 Plunkett Street Lenox MA 01240 United States;X-APPLE-RADIUS=500;X-TITLE=2 Plunkett Street:geo:-73.2820429,42.3310176
END:VEVENT
BEGIN:VEVENT
DTSTART;TZID=America/New_York:20270202T100000
DTEND;TZID=America/New_York:20270202T110000
DTSTAMP:20260423T112451
CREATED:20260422T182801Z
LAST-MODIFIED:20260422T182801Z
UID:10040632-1801562400-1801566000@berkshires.org
SUMMARY:StoryTime at the StoryWalk
DESCRIPTION:On the first Tuesday of each month\, stories come alive on the StoryWalk with South Berkshire Kids! Families are invited to gather at the top of the StoryWalk trail for a lively read-aloud\, then grab a seat at the craft table for a hands-on activity or continue the adventure by exploring The Mount’s trails and colorful gardens.\nJune: Grandmother Moon\nJuly: Rus and Moose\nAugust: Baby Ballena\nSeptember: Willow and the Storm
URL:https://berkshires.org/events/storytime-at-the-storywalk/2027-02-02/
LOCATION:The Mount\, Edith Wharton’s Home\, 2 Plunkett Street\, Lenox\, MA\, 01240\, United States
CATEGORIES:Class, Workshop, and Open Studios,Family Friendly
ATTACH;FMTTYPE=image/jpeg:https://berkshires.org/wp-content/uploads/2023/03/mount-lenox-chamber-eblast-2023-2high-res.jpg
ORGANIZER;CN="The Mount%2C Edith Wharton's Home":MAILTO:info@edithwharton.org
GEO:42.3310176;-73.2820429
X-APPLE-STRUCTURED-LOCATION;VALUE=URI;X-ADDRESS=The Mount Edith Wharton’s Home 2 Plunkett Street Lenox MA 01240 United States;X-APPLE-RADIUS=500;X-TITLE=2 Plunkett Street:geo:-73.2820429,42.3310176
END:VEVENT
BEGIN:VEVENT
DTSTART;TZID=America/New_York:20270302T100000
DTEND;TZID=America/New_York:20270302T110000
DTSTAMP:20260423T112451
CREATED:20260422T182801Z
LAST-MODIFIED:20260422T182801Z
UID:10040633-1803981600-1803985200@berkshires.org
SUMMARY:StoryTime at the StoryWalk
DESCRIPTION:On the first Tuesday of each month\, stories come alive on the StoryWalk with South Berkshire Kids! Families are invited to gather at the top of the StoryWalk trail for a lively read-aloud\, then grab a seat at the craft table for a hands-on activity or continue the adventure by exploring The Mount’s trails and colorful gardens.\nJune: Grandmother Moon\nJuly: Rus and Moose\nAugust: Baby Ballena\nSeptember: Willow and the Storm
URL:https://berkshires.org/events/storytime-at-the-storywalk/2027-03-02/
LOCATION:The Mount\, Edith Wharton’s Home\, 2 Plunkett Street\, Lenox\, MA\, 01240\, United States
CATEGORIES:Class, Workshop, and Open Studios,Family Friendly
ATTACH;FMTTYPE=image/jpeg:https://berkshires.org/wp-content/uploads/2023/03/mount-lenox-chamber-eblast-2023-2high-res.jpg
ORGANIZER;CN="The Mount%2C Edith Wharton's Home":MAILTO:info@edithwharton.org
GEO:42.3310176;-73.2820429
X-APPLE-STRUCTURED-LOCATION;VALUE=URI;X-ADDRESS=The Mount Edith Wharton’s Home 2 Plunkett Street Lenox MA 01240 United States;X-APPLE-RADIUS=500;X-TITLE=2 Plunkett Street:geo:-73.2820429,42.3310176
END:VEVENT
BEGIN:VEVENT
DTSTART;TZID=America/New_York:20270406T100000
DTEND;TZID=America/New_York:20270406T110000
DTSTAMP:20260423T112451
CREATED:20260422T182801Z
LAST-MODIFIED:20260422T182801Z
UID:10040634-1807005600-1807009200@berkshires.org
SUMMARY:StoryTime at the StoryWalk
DESCRIPTION:On the first Tuesday of each month\, stories come alive on the StoryWalk with South Berkshire Kids! Families are invited to gather at the top of the StoryWalk trail for a lively read-aloud\, then grab a seat at the craft table for a hands-on activity or continue the adventure by exploring The Mount’s trails and colorful gardens.\nJune: Grandmother Moon\nJuly: Rus and Moose\nAugust: Baby Ballena\nSeptember: Willow and the Storm
URL:https://berkshires.org/events/storytime-at-the-storywalk/2027-04-06/
LOCATION:The Mount\, Edith Wharton’s Home\, 2 Plunkett Street\, Lenox\, MA\, 01240\, United States
CATEGORIES:Class, Workshop, and Open Studios,Family Friendly
ATTACH;FMTTYPE=image/jpeg:https://berkshires.org/wp-content/uploads/2023/03/mount-lenox-chamber-eblast-2023-2high-res.jpg
ORGANIZER;CN="The Mount%2C Edith Wharton's Home":MAILTO:info@edithwharton.org
GEO:42.3310176;-73.2820429
X-APPLE-STRUCTURED-LOCATION;VALUE=URI;X-ADDRESS=The Mount Edith Wharton’s Home 2 Plunkett Street Lenox MA 01240 United States;X-APPLE-RADIUS=500;X-TITLE=2 Plunkett Street:geo:-73.2820429,42.3310176
END:VEVENT
BEGIN:VEVENT
DTSTART;TZID=America/New_York:20270504T100000
DTEND;TZID=America/New_York:20270504T110000
DTSTAMP:20260423T112451
CREATED:20260422T182801Z
LAST-MODIFIED:20260422T182801Z
UID:10040635-1809424800-1809428400@berkshires.org
SUMMARY:StoryTime at the StoryWalk
DESCRIPTION:On the first Tuesday of each month\, stories come alive on the StoryWalk with South Berkshire Kids! Families are invited to gather at the top of the StoryWalk trail for a lively read-aloud\, then grab a seat at the craft table for a hands-on activity or continue the adventure by exploring The Mount’s trails and colorful gardens.\nJune: Grandmother Moon\nJuly: Rus and Moose\nAugust: Baby Ballena\nSeptember: Willow and the Storm
URL:https://berkshires.org/events/storytime-at-the-storywalk/2027-05-04/
LOCATION:The Mount\, Edith Wharton’s Home\, 2 Plunkett Street\, Lenox\, MA\, 01240\, United States
CATEGORIES:Class, Workshop, and Open Studios,Family Friendly
ATTACH;FMTTYPE=image/jpeg:https://berkshires.org/wp-content/uploads/2023/03/mount-lenox-chamber-eblast-2023-2high-res.jpg
ORGANIZER;CN="The Mount%2C Edith Wharton's Home":MAILTO:info@edithwharton.org
GEO:42.3310176;-73.2820429
X-APPLE-STRUCTURED-LOCATION;VALUE=URI;X-ADDRESS=The Mount Edith Wharton’s Home 2 Plunkett Street Lenox MA 01240 United States;X-APPLE-RADIUS=500;X-TITLE=2 Plunkett Street:geo:-73.2820429,42.3310176
END:VEVENT
BEGIN:VEVENT
DTSTART;TZID=America/New_York:20270601T100000
DTEND;TZID=America/New_York:20270601T110000
DTSTAMP:20260423T112451
CREATED:20260422T182801Z
LAST-MODIFIED:20260422T182801Z
UID:10040636-1811844000-1811847600@berkshires.org
SUMMARY:StoryTime at the StoryWalk
DESCRIPTION:On the first Tuesday of each month\, stories come alive on the StoryWalk with South Berkshire Kids! Families are invited to gather at the top of the StoryWalk trail for a lively read-aloud\, then grab a seat at the craft table for a hands-on activity or continue the adventure by exploring The Mount’s trails and colorful gardens.\nJune: Grandmother Moon\nJuly: Rus and Moose\nAugust: Baby Ballena\nSeptember: Willow and the Storm
URL:https://berkshires.org/events/storytime-at-the-storywalk/2027-06-01/
LOCATION:The Mount\, Edith Wharton’s Home\, 2 Plunkett Street\, Lenox\, MA\, 01240\, United States
CATEGORIES:Class, Workshop, and Open Studios,Family Friendly
ATTACH;FMTTYPE=image/jpeg:https://berkshires.org/wp-content/uploads/2023/03/mount-lenox-chamber-eblast-2023-2high-res.jpg
ORGANIZER;CN="The Mount%2C Edith Wharton's Home":MAILTO:info@edithwharton.org
GEO:42.3310176;-73.2820429
X-APPLE-STRUCTURED-LOCATION;VALUE=URI;X-ADDRESS=The Mount Edith Wharton’s Home 2 Plunkett Street Lenox MA 01240 United States;X-APPLE-RADIUS=500;X-TITLE=2 Plunkett Street:geo:-73.2820429,42.3310176
END:VEVENT
END:VCALENDAR