BEGIN:VCALENDAR
VERSION:2.0
PRODID:-//Visit the Berkshires of Western MA - ECPv6.15.20//NONSGML v1.0//EN
CALSCALE:GREGORIAN
METHOD:PUBLISH
X-WR-CALNAME:Visit the Berkshires of Western MA
X-ORIGINAL-URL:https://berkshires.org
X-WR-CALDESC:Events for Visit the Berkshires of Western MA
REFRESH-INTERVAL;VALUE=DURATION:PT1H
X-Robots-Tag:noindex
X-PUBLISHED-TTL:PT1H
BEGIN:VTIMEZONE
TZID:America/New_York
BEGIN:DAYLIGHT
TZOFFSETFROM:-0500
TZOFFSETTO:-0400
TZNAME:EDT
DTSTART:20250309T070000
END:DAYLIGHT
BEGIN:STANDARD
TZOFFSETFROM:-0400
TZOFFSETTO:-0500
TZNAME:EST
DTSTART:20251102T060000
END:STANDARD
BEGIN:DAYLIGHT
TZOFFSETFROM:-0500
TZOFFSETTO:-0400
TZNAME:EDT
DTSTART:20260308T070000
END:DAYLIGHT
BEGIN:STANDARD
TZOFFSETFROM:-0400
TZOFFSETTO:-0500
TZNAME:EST
DTSTART:20261101T060000
END:STANDARD
BEGIN:DAYLIGHT
TZOFFSETFROM:-0500
TZOFFSETTO:-0400
TZNAME:EDT
DTSTART:20270314T070000
END:DAYLIGHT
BEGIN:STANDARD
TZOFFSETFROM:-0400
TZOFFSETTO:-0500
TZNAME:EST
DTSTART:20271107T060000
END:STANDARD
END:VTIMEZONE
BEGIN:VEVENT
DTSTART;TZID=America/New_York:20260513T100000
DTEND;TZID=America/New_York:20260513T113000
DTSTAMP:20260422T184622
CREATED:20260422T180736Z
LAST-MODIFIED:20260422T182305Z
UID:10040602-1778666400-1778671800@berkshires.org
SUMMARY:In the Footsteps of Edith
DESCRIPTION:Embark on a reflective journey through the woods\, meadows\, and grounds of Edith Wharton’s estate. Join Nancy\, The Mount’s trail guide\, as she leads us In the Footsteps of Edith\, a mindful walk that will begin with reading a brief passage of Wharton’s writing—a poem\, letter\, or excerpt from a work of fiction—to enhance your connection to nature and frame an intention for the experience. Throughout the journey\, participants are welcome to share reflections.  \n 
URL:https://berkshires.org/events/in-the-footsteps-of-edith/2026-05-13/
LOCATION:The Mount\, Edith Wharton’s Home\, 2 Plunkett Street\, Lenox\, MA\, 01240\, United States
CATEGORIES:Class, Workshop, and Open Studios,Outdoor Event
ATTACH;FMTTYPE=image/jpeg:https://berkshires.org/wp-content/uploads/2026/04/In-the-Footsteps-of-Edith.jpg
ORGANIZER;CN="The Mount%2C Edith Wharton's Home":MAILTO:info@edithwharton.org
GEO:42.3310176;-73.2820429
X-APPLE-STRUCTURED-LOCATION;VALUE=URI;X-ADDRESS=The Mount Edith Wharton’s Home 2 Plunkett Street Lenox MA 01240 United States;X-APPLE-RADIUS=500;X-TITLE=2 Plunkett Street:geo:-73.2820429,42.3310176
END:VEVENT
BEGIN:VEVENT
DTSTART;TZID=America/New_York:20260610T100000
DTEND;TZID=America/New_York:20260610T113000
DTSTAMP:20260422T184622
CREATED:20260422T180736Z
LAST-MODIFIED:20260422T182305Z
UID:10040619-1781085600-1781091000@berkshires.org
SUMMARY:In the Footsteps of Edith
DESCRIPTION:Embark on a reflective journey through the woods\, meadows\, and grounds of Edith Wharton’s estate. Join Nancy\, The Mount’s trail guide\, as she leads us In the Footsteps of Edith\, a mindful walk that will begin with reading a brief passage of Wharton’s writing—a poem\, letter\, or excerpt from a work of fiction—to enhance your connection to nature and frame an intention for the experience. Throughout the journey\, participants are welcome to share reflections.  \n 
URL:https://berkshires.org/events/in-the-footsteps-of-edith/2026-06-10/
LOCATION:The Mount\, Edith Wharton’s Home\, 2 Plunkett Street\, Lenox\, MA\, 01240\, United States
CATEGORIES:Class, Workshop, and Open Studios,Outdoor Event
ATTACH;FMTTYPE=image/jpeg:https://berkshires.org/wp-content/uploads/2026/04/In-the-Footsteps-of-Edith.jpg
ORGANIZER;CN="The Mount%2C Edith Wharton's Home":MAILTO:info@edithwharton.org
GEO:42.3310176;-73.2820429
X-APPLE-STRUCTURED-LOCATION;VALUE=URI;X-ADDRESS=The Mount Edith Wharton’s Home 2 Plunkett Street Lenox MA 01240 United States;X-APPLE-RADIUS=500;X-TITLE=2 Plunkett Street:geo:-73.2820429,42.3310176
END:VEVENT
BEGIN:VEVENT
DTSTART;TZID=America/New_York:20260708T100000
DTEND;TZID=America/New_York:20260708T113000
DTSTAMP:20260422T184622
CREATED:20260422T180736Z
LAST-MODIFIED:20260422T182305Z
UID:10040620-1783504800-1783510200@berkshires.org
SUMMARY:In the Footsteps of Edith
DESCRIPTION:Embark on a reflective journey through the woods\, meadows\, and grounds of Edith Wharton’s estate. Join Nancy\, The Mount’s trail guide\, as she leads us In the Footsteps of Edith\, a mindful walk that will begin with reading a brief passage of Wharton’s writing—a poem\, letter\, or excerpt from a work of fiction—to enhance your connection to nature and frame an intention for the experience. Throughout the journey\, participants are welcome to share reflections.  \n 
URL:https://berkshires.org/events/in-the-footsteps-of-edith/2026-07-08/
LOCATION:The Mount\, Edith Wharton’s Home\, 2 Plunkett Street\, Lenox\, MA\, 01240\, United States
CATEGORIES:Class, Workshop, and Open Studios,Outdoor Event
ATTACH;FMTTYPE=image/jpeg:https://berkshires.org/wp-content/uploads/2026/04/In-the-Footsteps-of-Edith.jpg
ORGANIZER;CN="The Mount%2C Edith Wharton's Home":MAILTO:info@edithwharton.org
GEO:42.3310176;-73.2820429
X-APPLE-STRUCTURED-LOCATION;VALUE=URI;X-ADDRESS=The Mount Edith Wharton’s Home 2 Plunkett Street Lenox MA 01240 United States;X-APPLE-RADIUS=500;X-TITLE=2 Plunkett Street:geo:-73.2820429,42.3310176
END:VEVENT
BEGIN:VEVENT
DTSTART;TZID=America/New_York:20260812T100000
DTEND;TZID=America/New_York:20260812T113000
DTSTAMP:20260422T184622
CREATED:20260422T180736Z
LAST-MODIFIED:20260422T182305Z
UID:10040621-1786528800-1786534200@berkshires.org
SUMMARY:In the Footsteps of Edith
DESCRIPTION:Embark on a reflective journey through the woods\, meadows\, and grounds of Edith Wharton’s estate. Join Nancy\, The Mount’s trail guide\, as she leads us In the Footsteps of Edith\, a mindful walk that will begin with reading a brief passage of Wharton’s writing—a poem\, letter\, or excerpt from a work of fiction—to enhance your connection to nature and frame an intention for the experience. Throughout the journey\, participants are welcome to share reflections.  \n 
URL:https://berkshires.org/events/in-the-footsteps-of-edith/2026-08-12/
LOCATION:The Mount\, Edith Wharton’s Home\, 2 Plunkett Street\, Lenox\, MA\, 01240\, United States
CATEGORIES:Class, Workshop, and Open Studios,Outdoor Event
ATTACH;FMTTYPE=image/jpeg:https://berkshires.org/wp-content/uploads/2026/04/In-the-Footsteps-of-Edith.jpg
ORGANIZER;CN="The Mount%2C Edith Wharton's Home":MAILTO:info@edithwharton.org
GEO:42.3310176;-73.2820429
X-APPLE-STRUCTURED-LOCATION;VALUE=URI;X-ADDRESS=The Mount Edith Wharton’s Home 2 Plunkett Street Lenox MA 01240 United States;X-APPLE-RADIUS=500;X-TITLE=2 Plunkett Street:geo:-73.2820429,42.3310176
END:VEVENT
BEGIN:VEVENT
DTSTART;TZID=America/New_York:20260909T100000
DTEND;TZID=America/New_York:20260909T113000
DTSTAMP:20260422T184622
CREATED:20260422T180736Z
LAST-MODIFIED:20260422T182305Z
UID:10040622-1788948000-1788953400@berkshires.org
SUMMARY:In the Footsteps of Edith
DESCRIPTION:Embark on a reflective journey through the woods\, meadows\, and grounds of Edith Wharton’s estate. Join Nancy\, The Mount’s trail guide\, as she leads us In the Footsteps of Edith\, a mindful walk that will begin with reading a brief passage of Wharton’s writing—a poem\, letter\, or excerpt from a work of fiction—to enhance your connection to nature and frame an intention for the experience. Throughout the journey\, participants are welcome to share reflections.  \n 
URL:https://berkshires.org/events/in-the-footsteps-of-edith/2026-09-09/
LOCATION:The Mount\, Edith Wharton’s Home\, 2 Plunkett Street\, Lenox\, MA\, 01240\, United States
CATEGORIES:Class, Workshop, and Open Studios,Outdoor Event
ATTACH;FMTTYPE=image/jpeg:https://berkshires.org/wp-content/uploads/2026/04/In-the-Footsteps-of-Edith.jpg
ORGANIZER;CN="The Mount%2C Edith Wharton's Home":MAILTO:info@edithwharton.org
GEO:42.3310176;-73.2820429
X-APPLE-STRUCTURED-LOCATION;VALUE=URI;X-ADDRESS=The Mount Edith Wharton’s Home 2 Plunkett Street Lenox MA 01240 United States;X-APPLE-RADIUS=500;X-TITLE=2 Plunkett Street:geo:-73.2820429,42.3310176
END:VEVENT
END:VCALENDAR