BEGIN:VCALENDAR
VERSION:2.0
PRODID:-//Visit the Berkshires of Western MA - ECPv6.15.20//NONSGML v1.0//EN
CALSCALE:GREGORIAN
METHOD:PUBLISH
X-WR-CALNAME:Visit the Berkshires of Western MA
X-ORIGINAL-URL:https://berkshires.org
X-WR-CALDESC:Events for Visit the Berkshires of Western MA
REFRESH-INTERVAL;VALUE=DURATION:PT1H
X-Robots-Tag:noindex
X-PUBLISHED-TTL:PT1H
BEGIN:VTIMEZONE
TZID:America/New_York
BEGIN:DAYLIGHT
TZOFFSETFROM:-0500
TZOFFSETTO:-0400
TZNAME:EDT
DTSTART:20250309T070000
END:DAYLIGHT
BEGIN:STANDARD
TZOFFSETFROM:-0400
TZOFFSETTO:-0500
TZNAME:EST
DTSTART:20251102T060000
END:STANDARD
BEGIN:DAYLIGHT
TZOFFSETFROM:-0500
TZOFFSETTO:-0400
TZNAME:EDT
DTSTART:20260308T070000
END:DAYLIGHT
BEGIN:STANDARD
TZOFFSETFROM:-0400
TZOFFSETTO:-0500
TZNAME:EST
DTSTART:20261101T060000
END:STANDARD
BEGIN:DAYLIGHT
TZOFFSETFROM:-0500
TZOFFSETTO:-0400
TZNAME:EDT
DTSTART:20270314T070000
END:DAYLIGHT
BEGIN:STANDARD
TZOFFSETFROM:-0400
TZOFFSETTO:-0500
TZNAME:EST
DTSTART:20271107T060000
END:STANDARD
END:VTIMEZONE
BEGIN:VEVENT
DTSTART;TZID=America/New_York:20260516T130000
DTEND;TZID=America/New_York:20260516T170000
DTSTAMP:20260425T083823
CREATED:20260421T144823Z
LAST-MODIFIED:20260421T144823Z
UID:10040470-1778936400-1778950800@berkshires.org
SUMMARY:Gallery 13 1/2 Reopening for Spring/Summer
DESCRIPTION:Bruce Laird is an abstract artist whose two and three-dimensional works in mixed media reveal a fascination with geometry\, color and juxtapositions that are both playful and thought provoking. Laird will be exhibiting with artists George LeMaitre and Patricia Fietta beginning May 16. The Gallery will be open for both weekends of ArtWeek.
URL:https://berkshires.org/events/gallery-13-1-2-reopening-for-spring-summer/2026-05-16/
LOCATION:Gallery 13 1/2\, 13 1/2 Grove Street\, Adams\, MA\, 01220\, United States
CATEGORIES:ArtWeek Berkshires Event
ATTACH;FMTTYPE=image/jpeg:https://berkshires.org/wp-content/uploads/2026/04/Gallery-13-1_2.jpg
END:VEVENT
BEGIN:VEVENT
DTSTART;TZID=America/New_York:20260517T130000
DTEND;TZID=America/New_York:20260517T170000
DTSTAMP:20260425T083823
CREATED:20260421T144823Z
LAST-MODIFIED:20260421T144823Z
UID:10040471-1779022800-1779037200@berkshires.org
SUMMARY:Gallery 13 1/2 Reopening for Spring/Summer
DESCRIPTION:Bruce Laird is an abstract artist whose two and three-dimensional works in mixed media reveal a fascination with geometry\, color and juxtapositions that are both playful and thought provoking. Laird will be exhibiting with artists George LeMaitre and Patricia Fietta beginning May 16. The Gallery will be open for both weekends of ArtWeek.
URL:https://berkshires.org/events/gallery-13-1-2-reopening-for-spring-summer/2026-05-17/
LOCATION:Gallery 13 1/2\, 13 1/2 Grove Street\, Adams\, MA\, 01220\, United States
CATEGORIES:ArtWeek Berkshires Event
ATTACH;FMTTYPE=image/jpeg:https://berkshires.org/wp-content/uploads/2026/04/Gallery-13-1_2.jpg
END:VEVENT
BEGIN:VEVENT
DTSTART;TZID=America/New_York:20260523T130000
DTEND;TZID=America/New_York:20260523T170000
DTSTAMP:20260425T083823
CREATED:20260421T144823Z
LAST-MODIFIED:20260421T144823Z
UID:10040472-1779541200-1779555600@berkshires.org
SUMMARY:Gallery 13 1/2 Reopening for Spring/Summer
DESCRIPTION:Bruce Laird is an abstract artist whose two and three-dimensional works in mixed media reveal a fascination with geometry\, color and juxtapositions that are both playful and thought provoking. Laird will be exhibiting with artists George LeMaitre and Patricia Fietta beginning May 16. The Gallery will be open for both weekends of ArtWeek.
URL:https://berkshires.org/events/gallery-13-1-2-reopening-for-spring-summer/2026-05-23/
LOCATION:Gallery 13 1/2\, 13 1/2 Grove Street\, Adams\, MA\, 01220\, United States
CATEGORIES:ArtWeek Berkshires Event
ATTACH;FMTTYPE=image/jpeg:https://berkshires.org/wp-content/uploads/2026/04/Gallery-13-1_2.jpg
END:VEVENT
BEGIN:VEVENT
DTSTART;TZID=America/New_York:20260524T130000
DTEND;TZID=America/New_York:20260524T170000
DTSTAMP:20260425T083823
CREATED:20260421T144823Z
LAST-MODIFIED:20260421T144823Z
UID:10040473-1779627600-1779642000@berkshires.org
SUMMARY:Gallery 13 1/2 Reopening for Spring/Summer
DESCRIPTION:Bruce Laird is an abstract artist whose two and three-dimensional works in mixed media reveal a fascination with geometry\, color and juxtapositions that are both playful and thought provoking. Laird will be exhibiting with artists George LeMaitre and Patricia Fietta beginning May 16. The Gallery will be open for both weekends of ArtWeek.
URL:https://berkshires.org/events/gallery-13-1-2-reopening-for-spring-summer/2026-05-24/
LOCATION:Gallery 13 1/2\, 13 1/2 Grove Street\, Adams\, MA\, 01220\, United States
CATEGORIES:ArtWeek Berkshires Event
ATTACH;FMTTYPE=image/jpeg:https://berkshires.org/wp-content/uploads/2026/04/Gallery-13-1_2.jpg
END:VEVENT
END:VCALENDAR