BEGIN:VCALENDAR
VERSION:2.0
PRODID:-//Visit the Berkshires of Western MA - ECPv6.15.20//NONSGML v1.0//EN
CALSCALE:GREGORIAN
METHOD:PUBLISH
X-WR-CALNAME:Visit the Berkshires of Western MA
X-ORIGINAL-URL:https://berkshires.org
X-WR-CALDESC:Events for Visit the Berkshires of Western MA
REFRESH-INTERVAL;VALUE=DURATION:PT1H
X-Robots-Tag:noindex
X-PUBLISHED-TTL:PT1H
BEGIN:VTIMEZONE
TZID:America/New_York
BEGIN:DAYLIGHT
TZOFFSETFROM:-0500
TZOFFSETTO:-0400
TZNAME:EDT
DTSTART:20250309T070000
END:DAYLIGHT
BEGIN:STANDARD
TZOFFSETFROM:-0400
TZOFFSETTO:-0500
TZNAME:EST
DTSTART:20251102T060000
END:STANDARD
BEGIN:DAYLIGHT
TZOFFSETFROM:-0500
TZOFFSETTO:-0400
TZNAME:EDT
DTSTART:20260308T070000
END:DAYLIGHT
BEGIN:STANDARD
TZOFFSETFROM:-0400
TZOFFSETTO:-0500
TZNAME:EST
DTSTART:20261101T060000
END:STANDARD
BEGIN:DAYLIGHT
TZOFFSETFROM:-0500
TZOFFSETTO:-0400
TZNAME:EDT
DTSTART:20270314T070000
END:DAYLIGHT
BEGIN:STANDARD
TZOFFSETFROM:-0400
TZOFFSETTO:-0500
TZNAME:EST
DTSTART:20271107T060000
END:STANDARD
END:VTIMEZONE
BEGIN:VEVENT
DTSTART;VALUE=DATE:20260423
DTEND;VALUE=DATE:20260424
DTSTAMP:20260420T235619
CREATED:20260416T155306Z
LAST-MODIFIED:20260416T155306Z
UID:10040453-1776902400-1776988799@berkshires.org
SUMMARY:Shakespeare's 462nd Birthday Celebration
DESCRIPTION:Shakespeare & Company invites families\, first-time theatergoers\, and Shakespeare devotees alike to celebrate the playwright’s 462nd birthday with a full slate of storytelling\, community\, and festivities at its campus. Festivities include three open-captioned performances featuring “supertitles” projected above the stage; a relaxed performance with reduced stimuli and more flexible house rules; two free workshops for participants aged eight and up: Theater Games and Exercises and Fight and Movement; a free screening of the Fall Festival of Shakespeare short documentary Speak What We Feel followed by a talkback with Founding Director of Education Kevin G. Coleman; a free Behind the Curtain on Hamlet with Shakespeare scholar Ann Berman; complimentary birthday cake and other treats. See the Event Website for details!
URL:https://berkshires.org/events/shakespeares-462nd-birthday-celebration/2026-04-23/
LOCATION:Shakespeare & Company\, 70 Kemble Street\, Lenox\, MA\, 01240\, United States
CATEGORIES:Arts and Culture,Belong Berkshires,Family Friendly,Performing Arts & Entertainment
ATTACH;FMTTYPE=image/jpeg:https://berkshires.org/wp-content/uploads/2026/04/2026NortheastRegionalTour-Hamlet-334-1.jpg
ORGANIZER;CN="Shakespeare & Company":MAILTO:general@shakespeare.org
GEO:42.3485907;-73.2834605
X-APPLE-STRUCTURED-LOCATION;VALUE=URI;X-ADDRESS=Shakespeare & Company 70 Kemble Street Lenox MA 01240 United States;X-APPLE-RADIUS=500;X-TITLE=70 Kemble Street:geo:-73.2834605,42.3485907
END:VEVENT
BEGIN:VEVENT
DTSTART;VALUE=DATE:20260424
DTEND;VALUE=DATE:20260425
DTSTAMP:20260420T235619
CREATED:20260416T155306Z
LAST-MODIFIED:20260416T155306Z
UID:10040454-1776988800-1777075199@berkshires.org
SUMMARY:Shakespeare's 462nd Birthday Celebration
DESCRIPTION:Shakespeare & Company invites families\, first-time theatergoers\, and Shakespeare devotees alike to celebrate the playwright’s 462nd birthday with a full slate of storytelling\, community\, and festivities at its campus. Festivities include three open-captioned performances featuring “supertitles” projected above the stage; a relaxed performance with reduced stimuli and more flexible house rules; two free workshops for participants aged eight and up: Theater Games and Exercises and Fight and Movement; a free screening of the Fall Festival of Shakespeare short documentary Speak What We Feel followed by a talkback with Founding Director of Education Kevin G. Coleman; a free Behind the Curtain on Hamlet with Shakespeare scholar Ann Berman; complimentary birthday cake and other treats. See the Event Website for details!
URL:https://berkshires.org/events/shakespeares-462nd-birthday-celebration/2026-04-24/
LOCATION:Shakespeare & Company\, 70 Kemble Street\, Lenox\, MA\, 01240\, United States
CATEGORIES:Arts and Culture,Belong Berkshires,Family Friendly,Performing Arts & Entertainment
ATTACH;FMTTYPE=image/jpeg:https://berkshires.org/wp-content/uploads/2026/04/2026NortheastRegionalTour-Hamlet-334-1.jpg
ORGANIZER;CN="Shakespeare & Company":MAILTO:general@shakespeare.org
GEO:42.3485907;-73.2834605
X-APPLE-STRUCTURED-LOCATION;VALUE=URI;X-ADDRESS=Shakespeare & Company 70 Kemble Street Lenox MA 01240 United States;X-APPLE-RADIUS=500;X-TITLE=70 Kemble Street:geo:-73.2834605,42.3485907
END:VEVENT
BEGIN:VEVENT
DTSTART;VALUE=DATE:20260425
DTEND;VALUE=DATE:20260426
DTSTAMP:20260420T235619
CREATED:20260416T155306Z
LAST-MODIFIED:20260416T155306Z
UID:10040455-1777075200-1777161599@berkshires.org
SUMMARY:Shakespeare's 462nd Birthday Celebration
DESCRIPTION:Shakespeare & Company invites families\, first-time theatergoers\, and Shakespeare devotees alike to celebrate the playwright’s 462nd birthday with a full slate of storytelling\, community\, and festivities at its campus. Festivities include three open-captioned performances featuring “supertitles” projected above the stage; a relaxed performance with reduced stimuli and more flexible house rules; two free workshops for participants aged eight and up: Theater Games and Exercises and Fight and Movement; a free screening of the Fall Festival of Shakespeare short documentary Speak What We Feel followed by a talkback with Founding Director of Education Kevin G. Coleman; a free Behind the Curtain on Hamlet with Shakespeare scholar Ann Berman; complimentary birthday cake and other treats. See the Event Website for details!
URL:https://berkshires.org/events/shakespeares-462nd-birthday-celebration/2026-04-25/
LOCATION:Shakespeare & Company\, 70 Kemble Street\, Lenox\, MA\, 01240\, United States
CATEGORIES:Arts and Culture,Belong Berkshires,Family Friendly,Performing Arts & Entertainment
ATTACH;FMTTYPE=image/jpeg:https://berkshires.org/wp-content/uploads/2026/04/2026NortheastRegionalTour-Hamlet-334-1.jpg
ORGANIZER;CN="Shakespeare & Company":MAILTO:general@shakespeare.org
GEO:42.3485907;-73.2834605
X-APPLE-STRUCTURED-LOCATION;VALUE=URI;X-ADDRESS=Shakespeare & Company 70 Kemble Street Lenox MA 01240 United States;X-APPLE-RADIUS=500;X-TITLE=70 Kemble Street:geo:-73.2834605,42.3485907
END:VEVENT
END:VCALENDAR