BEGIN:VCALENDAR
VERSION:2.0
PRODID:-//Visit the Berkshires of Western MA - ECPv6.15.20//NONSGML v1.0//EN
CALSCALE:GREGORIAN
METHOD:PUBLISH
X-WR-CALNAME:Visit the Berkshires of Western MA
X-ORIGINAL-URL:https://berkshires.org
X-WR-CALDESC:Events for Visit the Berkshires of Western MA
REFRESH-INTERVAL;VALUE=DURATION:PT1H
X-Robots-Tag:noindex
X-PUBLISHED-TTL:PT1H
BEGIN:VTIMEZONE
TZID:America/New_York
BEGIN:DAYLIGHT
TZOFFSETFROM:-0500
TZOFFSETTO:-0400
TZNAME:EDT
DTSTART:20250309T070000
END:DAYLIGHT
BEGIN:STANDARD
TZOFFSETFROM:-0400
TZOFFSETTO:-0500
TZNAME:EST
DTSTART:20251102T060000
END:STANDARD
BEGIN:DAYLIGHT
TZOFFSETFROM:-0500
TZOFFSETTO:-0400
TZNAME:EDT
DTSTART:20260308T070000
END:DAYLIGHT
BEGIN:STANDARD
TZOFFSETFROM:-0400
TZOFFSETTO:-0500
TZNAME:EST
DTSTART:20261101T060000
END:STANDARD
BEGIN:DAYLIGHT
TZOFFSETFROM:-0500
TZOFFSETTO:-0400
TZNAME:EDT
DTSTART:20270314T070000
END:DAYLIGHT
BEGIN:STANDARD
TZOFFSETFROM:-0400
TZOFFSETTO:-0500
TZNAME:EST
DTSTART:20271107T060000
END:STANDARD
END:VTIMEZONE
BEGIN:VEVENT
DTSTART;TZID=America/New_York:20260508T090000
DTEND;TZID=America/New_York:20260508T110000
DTSTAMP:20260421T095313
CREATED:20260414T185952Z
LAST-MODIFIED:20260414T185952Z
UID:10040438-1778230800-1778238000@berkshires.org
SUMMARY:49th Annual Plant Sale
DESCRIPTION:This Mother’s Day weekend\, Berkshire Botanical Garden will burst into spring with something entirely new: two beloved events happening side-by-side for the very first time. From May 8–10\, the Garden invites visitors to a weekend-long celebration of plants\, play and community as the 49th Annual Plants-and-Answers Plant Sale overlaps with the second annual SpringFest on Saturday\, May 9. Together\, they promise a vibrant\, family-friendly welcome to the growing season. \n 
URL:https://berkshires.org/events/49th-annual-plant-sale/2026-05-08/
LOCATION:Berkshire Botanical Garden\, 5 West Stockbridge Road\, Stockbridge\, MA\, 01262\, United States
ATTACH;FMTTYPE=image/png:https://berkshires.org/wp-content/uploads/2026/04/BBG-Plant-Sale-2026.png
ORGANIZER;CN="Berkshire Botanical Garden":MAILTO:info@berkshirebotanical.org
GEO:42.3009152;-73.3367837
X-APPLE-STRUCTURED-LOCATION;VALUE=URI;X-ADDRESS=Berkshire Botanical Garden 5 West Stockbridge Road Stockbridge MA 01262 United States;X-APPLE-RADIUS=500;X-TITLE=5 West Stockbridge Road:geo:-73.3367837,42.3009152
END:VEVENT
BEGIN:VEVENT
DTSTART;TZID=America/New_York:20260509T090000
DTEND;TZID=America/New_York:20260509T160000
DTSTAMP:20260421T095313
CREATED:20260414T185952Z
LAST-MODIFIED:20260414T185952Z
UID:10040439-1778317200-1778342400@berkshires.org
SUMMARY:49th Annual Plant Sale
DESCRIPTION:This Mother’s Day weekend\, Berkshire Botanical Garden will burst into spring with something entirely new: two beloved events happening side-by-side for the very first time. From May 8–10\, the Garden invites visitors to a weekend-long celebration of plants\, play and community as the 49th Annual Plants-and-Answers Plant Sale overlaps with the second annual SpringFest on Saturday\, May 9. Together\, they promise a vibrant\, family-friendly welcome to the growing season. \n 
URL:https://berkshires.org/events/49th-annual-plant-sale/2026-05-09/
LOCATION:Berkshire Botanical Garden\, 5 West Stockbridge Road\, Stockbridge\, MA\, 01262\, United States
ATTACH;FMTTYPE=image/png:https://berkshires.org/wp-content/uploads/2026/04/BBG-Plant-Sale-2026.png
ORGANIZER;CN="Berkshire Botanical Garden":MAILTO:info@berkshirebotanical.org
GEO:42.3009152;-73.3367837
X-APPLE-STRUCTURED-LOCATION;VALUE=URI;X-ADDRESS=Berkshire Botanical Garden 5 West Stockbridge Road Stockbridge MA 01262 United States;X-APPLE-RADIUS=500;X-TITLE=5 West Stockbridge Road:geo:-73.3367837,42.3009152
END:VEVENT
BEGIN:VEVENT
DTSTART;TZID=America/New_York:20260510T090000
DTEND;TZID=America/New_York:20260510T160000
DTSTAMP:20260421T095313
CREATED:20260414T185952Z
LAST-MODIFIED:20260414T185952Z
UID:10040440-1778403600-1778428800@berkshires.org
SUMMARY:49th Annual Plant Sale
DESCRIPTION:This Mother’s Day weekend\, Berkshire Botanical Garden will burst into spring with something entirely new: two beloved events happening side-by-side for the very first time. From May 8–10\, the Garden invites visitors to a weekend-long celebration of plants\, play and community as the 49th Annual Plants-and-Answers Plant Sale overlaps with the second annual SpringFest on Saturday\, May 9. Together\, they promise a vibrant\, family-friendly welcome to the growing season. \n 
URL:https://berkshires.org/events/49th-annual-plant-sale/2026-05-10/
LOCATION:Berkshire Botanical Garden\, 5 West Stockbridge Road\, Stockbridge\, MA\, 01262\, United States
ATTACH;FMTTYPE=image/png:https://berkshires.org/wp-content/uploads/2026/04/BBG-Plant-Sale-2026.png
ORGANIZER;CN="Berkshire Botanical Garden":MAILTO:info@berkshirebotanical.org
GEO:42.3009152;-73.3367837
X-APPLE-STRUCTURED-LOCATION;VALUE=URI;X-ADDRESS=Berkshire Botanical Garden 5 West Stockbridge Road Stockbridge MA 01262 United States;X-APPLE-RADIUS=500;X-TITLE=5 West Stockbridge Road:geo:-73.3367837,42.3009152
END:VEVENT
END:VCALENDAR