BEGIN:VCALENDAR
VERSION:2.0
PRODID:-//Visit the Berkshires of Western MA - ECPv6.15.20//NONSGML v1.0//EN
CALSCALE:GREGORIAN
METHOD:PUBLISH
X-WR-CALNAME:Visit the Berkshires of Western MA
X-ORIGINAL-URL:https://berkshires.org
X-WR-CALDESC:Events for Visit the Berkshires of Western MA
REFRESH-INTERVAL;VALUE=DURATION:PT1H
X-Robots-Tag:noindex
X-PUBLISHED-TTL:PT1H
BEGIN:VTIMEZONE
TZID:America/New_York
BEGIN:DAYLIGHT
TZOFFSETFROM:-0500
TZOFFSETTO:-0400
TZNAME:EDT
DTSTART:20250309T070000
END:DAYLIGHT
BEGIN:STANDARD
TZOFFSETFROM:-0400
TZOFFSETTO:-0500
TZNAME:EST
DTSTART:20251102T060000
END:STANDARD
BEGIN:DAYLIGHT
TZOFFSETFROM:-0500
TZOFFSETTO:-0400
TZNAME:EDT
DTSTART:20260308T070000
END:DAYLIGHT
BEGIN:STANDARD
TZOFFSETFROM:-0400
TZOFFSETTO:-0500
TZNAME:EST
DTSTART:20261101T060000
END:STANDARD
BEGIN:DAYLIGHT
TZOFFSETFROM:-0500
TZOFFSETTO:-0400
TZNAME:EDT
DTSTART:20270314T070000
END:DAYLIGHT
BEGIN:STANDARD
TZOFFSETFROM:-0400
TZOFFSETTO:-0500
TZNAME:EST
DTSTART:20271107T060000
END:STANDARD
END:VTIMEZONE
BEGIN:VEVENT
DTSTART;TZID=America/New_York:20260516T130000
DTEND;TZID=America/New_York:20260516T170000
DTSTAMP:20260425T072040
CREATED:20260414T165842Z
LAST-MODIFIED:20260414T165842Z
UID:10040423-1778936400-1778950800@berkshires.org
SUMMARY:Leni Fried Printmaking: Open Studio
DESCRIPTION:Leni Fried\, co-owner of The Old Stone Mill Center\, is pleased to be exhibiting her work at the mill. Come and share her love of printmaking in its many forms. Monoprints\, collagraphs\, linocuts\, scrolls. Notecards\, dyed upcycled aprons\, and affordable art. Sign up for a printmaking class and wander around the mill for a tour.
URL:https://berkshires.org/events/leni-fried-printmaking-open-studio/2026-05-16/
LOCATION:The Old Stone Mill Center Zero Waste Maker Space\, 2A Grove Street\, Adams\, 01220\, United States
CATEGORIES:ArtWeek Berkshires Event,ArtWeek Open Studios
ATTACH;FMTTYPE=image/jpeg:https://berkshires.org/wp-content/uploads/2026/04/chickcrane.jpg
END:VEVENT
BEGIN:VEVENT
DTSTART;TZID=America/New_York:20260520T130000
DTEND;TZID=America/New_York:20260520T170000
DTSTAMP:20260425T072040
CREATED:20260414T165842Z
LAST-MODIFIED:20260414T165842Z
UID:10040424-1779282000-1779296400@berkshires.org
SUMMARY:Leni Fried Printmaking: Open Studio
DESCRIPTION:Leni Fried\, co-owner of The Old Stone Mill Center\, is pleased to be exhibiting her work at the mill. Come and share her love of printmaking in its many forms. Monoprints\, collagraphs\, linocuts\, scrolls. Notecards\, dyed upcycled aprons\, and affordable art. Sign up for a printmaking class and wander around the mill for a tour.
URL:https://berkshires.org/events/leni-fried-printmaking-open-studio/2026-05-20/
LOCATION:The Old Stone Mill Center Zero Waste Maker Space\, 2A Grove Street\, Adams\, 01220\, United States
CATEGORIES:ArtWeek Berkshires Event,ArtWeek Open Studios
ATTACH;FMTTYPE=image/jpeg:https://berkshires.org/wp-content/uploads/2026/04/chickcrane.jpg
END:VEVENT
BEGIN:VEVENT
DTSTART;TZID=America/New_York:20260523T130000
DTEND;TZID=America/New_York:20260523T170000
DTSTAMP:20260425T072040
CREATED:20260414T165842Z
LAST-MODIFIED:20260414T165842Z
UID:10040425-1779541200-1779555600@berkshires.org
SUMMARY:Leni Fried Printmaking: Open Studio
DESCRIPTION:Leni Fried\, co-owner of The Old Stone Mill Center\, is pleased to be exhibiting her work at the mill. Come and share her love of printmaking in its many forms. Monoprints\, collagraphs\, linocuts\, scrolls. Notecards\, dyed upcycled aprons\, and affordable art. Sign up for a printmaking class and wander around the mill for a tour.
URL:https://berkshires.org/events/leni-fried-printmaking-open-studio/2026-05-23/
LOCATION:The Old Stone Mill Center Zero Waste Maker Space\, 2A Grove Street\, Adams\, 01220\, United States
CATEGORIES:ArtWeek Berkshires Event,ArtWeek Open Studios
ATTACH;FMTTYPE=image/jpeg:https://berkshires.org/wp-content/uploads/2026/04/chickcrane.jpg
END:VEVENT
END:VCALENDAR