BEGIN:VCALENDAR
VERSION:2.0
PRODID:-//Visit the Berkshires of Western MA - ECPv6.15.20//NONSGML v1.0//EN
CALSCALE:GREGORIAN
METHOD:PUBLISH
X-WR-CALNAME:Visit the Berkshires of Western MA
X-ORIGINAL-URL:https://berkshires.org
X-WR-CALDESC:Events for Visit the Berkshires of Western MA
REFRESH-INTERVAL;VALUE=DURATION:PT1H
X-Robots-Tag:noindex
X-PUBLISHED-TTL:PT1H
BEGIN:VTIMEZONE
TZID:America/New_York
BEGIN:DAYLIGHT
TZOFFSETFROM:-0500
TZOFFSETTO:-0400
TZNAME:EDT
DTSTART:20250309T070000
END:DAYLIGHT
BEGIN:STANDARD
TZOFFSETFROM:-0400
TZOFFSETTO:-0500
TZNAME:EST
DTSTART:20251102T060000
END:STANDARD
BEGIN:DAYLIGHT
TZOFFSETFROM:-0500
TZOFFSETTO:-0400
TZNAME:EDT
DTSTART:20260308T070000
END:DAYLIGHT
BEGIN:STANDARD
TZOFFSETFROM:-0400
TZOFFSETTO:-0500
TZNAME:EST
DTSTART:20261101T060000
END:STANDARD
BEGIN:DAYLIGHT
TZOFFSETFROM:-0500
TZOFFSETTO:-0400
TZNAME:EDT
DTSTART:20270314T070000
END:DAYLIGHT
BEGIN:STANDARD
TZOFFSETFROM:-0400
TZOFFSETTO:-0500
TZNAME:EST
DTSTART:20271107T060000
END:STANDARD
END:VTIMEZONE
BEGIN:VEVENT
DTSTART;TZID=America/New_York:20260422T190000
DTEND;TZID=America/New_York:20260422T210000
DTSTAMP:20260421T071503
CREATED:20260414T142039Z
LAST-MODIFIED:20260414T142039Z
UID:10040379-1776884400-1776891600@berkshires.org
SUMMARY:Studio 9 Upcoming Performances
DESCRIPTION:Join us to hear these fine musicians:\n04/22: Andy Clausen: Artist-in-Residence\n04/30: Shakespeare’s Duets: Turn and Change\n05/08: Soggy Po’ Boys\n07/21: Freshgrass Presents: Big Richard
URL:https://berkshires.org/events/studio-9-upcoming-performances-2/2026-04-22/
LOCATION:Studio 9 at The Porches Inn\, 18 Veazie Street\, North Adams\, MA\, 01247\, United States
CATEGORIES:Performing Arts & Entertainment
ATTACH;FMTTYPE=image/png:https://berkshires.org/wp-content/uploads/2025/01/Untitled-design-2025-01-06T143351.511.png
END:VEVENT
BEGIN:VEVENT
DTSTART;TZID=America/New_York:20260430T190000
DTEND;TZID=America/New_York:20260430T210000
DTSTAMP:20260421T071503
CREATED:20260414T142039Z
LAST-MODIFIED:20260414T142039Z
UID:10040380-1777575600-1777582800@berkshires.org
SUMMARY:Studio 9 Upcoming Performances
DESCRIPTION:Join us to hear these fine musicians:\n04/22: Andy Clausen: Artist-in-Residence\n04/30: Shakespeare’s Duets: Turn and Change\n05/08: Soggy Po’ Boys\n07/21: Freshgrass Presents: Big Richard
URL:https://berkshires.org/events/studio-9-upcoming-performances-2/2026-04-30/
LOCATION:Studio 9 at The Porches Inn\, 18 Veazie Street\, North Adams\, MA\, 01247\, United States
CATEGORIES:Performing Arts & Entertainment
ATTACH;FMTTYPE=image/png:https://berkshires.org/wp-content/uploads/2025/01/Untitled-design-2025-01-06T143351.511.png
END:VEVENT
BEGIN:VEVENT
DTSTART;TZID=America/New_York:20260508T190000
DTEND;TZID=America/New_York:20260508T210000
DTSTAMP:20260421T071503
CREATED:20260414T142039Z
LAST-MODIFIED:20260414T142039Z
UID:10040381-1778266800-1778274000@berkshires.org
SUMMARY:Studio 9 Upcoming Performances
DESCRIPTION:Join us to hear these fine musicians:\n04/22: Andy Clausen: Artist-in-Residence\n04/30: Shakespeare’s Duets: Turn and Change\n05/08: Soggy Po’ Boys\n07/21: Freshgrass Presents: Big Richard
URL:https://berkshires.org/events/studio-9-upcoming-performances-2/2026-05-08/
LOCATION:Studio 9 at The Porches Inn\, 18 Veazie Street\, North Adams\, MA\, 01247\, United States
CATEGORIES:Performing Arts & Entertainment
ATTACH;FMTTYPE=image/png:https://berkshires.org/wp-content/uploads/2025/01/Untitled-design-2025-01-06T143351.511.png
END:VEVENT
BEGIN:VEVENT
DTSTART;TZID=America/New_York:20260721T190000
DTEND;TZID=America/New_York:20260721T210000
DTSTAMP:20260421T071503
CREATED:20260414T142039Z
LAST-MODIFIED:20260414T142039Z
UID:10040382-1784660400-1784667600@berkshires.org
SUMMARY:Studio 9 Upcoming Performances
DESCRIPTION:Join us to hear these fine musicians:\n04/22: Andy Clausen: Artist-in-Residence\n04/30: Shakespeare’s Duets: Turn and Change\n05/08: Soggy Po’ Boys\n07/21: Freshgrass Presents: Big Richard
URL:https://berkshires.org/events/studio-9-upcoming-performances-2/2026-07-21/
LOCATION:Studio 9 at The Porches Inn\, 18 Veazie Street\, North Adams\, MA\, 01247\, United States
CATEGORIES:Performing Arts & Entertainment
ATTACH;FMTTYPE=image/png:https://berkshires.org/wp-content/uploads/2025/01/Untitled-design-2025-01-06T143351.511.png
END:VEVENT
END:VCALENDAR