BEGIN:VCALENDAR
VERSION:2.0
PRODID:-//Visit the Berkshires of Western MA - ECPv6.15.20//NONSGML v1.0//EN
CALSCALE:GREGORIAN
METHOD:PUBLISH
X-WR-CALNAME:Visit the Berkshires of Western MA
X-ORIGINAL-URL:https://berkshires.org
X-WR-CALDESC:Events for Visit the Berkshires of Western MA
REFRESH-INTERVAL;VALUE=DURATION:PT1H
X-Robots-Tag:noindex
X-PUBLISHED-TTL:PT1H
BEGIN:VTIMEZONE
TZID:America/New_York
BEGIN:DAYLIGHT
TZOFFSETFROM:-0500
TZOFFSETTO:-0400
TZNAME:EDT
DTSTART:20250309T070000
END:DAYLIGHT
BEGIN:STANDARD
TZOFFSETFROM:-0400
TZOFFSETTO:-0500
TZNAME:EST
DTSTART:20251102T060000
END:STANDARD
BEGIN:DAYLIGHT
TZOFFSETFROM:-0500
TZOFFSETTO:-0400
TZNAME:EDT
DTSTART:20260308T070000
END:DAYLIGHT
BEGIN:STANDARD
TZOFFSETFROM:-0400
TZOFFSETTO:-0500
TZNAME:EST
DTSTART:20261101T060000
END:STANDARD
BEGIN:DAYLIGHT
TZOFFSETFROM:-0500
TZOFFSETTO:-0400
TZNAME:EDT
DTSTART:20270314T070000
END:DAYLIGHT
BEGIN:STANDARD
TZOFFSETFROM:-0400
TZOFFSETTO:-0500
TZNAME:EST
DTSTART:20271107T060000
END:STANDARD
END:VTIMEZONE
BEGIN:VEVENT
DTSTART;TZID=America/New_York:20260501T200000
DTEND;TZID=America/New_York:20260501T220000
DTSTAMP:20260425T103152
CREATED:20260226T170311Z
LAST-MODIFIED:20260226T170311Z
UID:10039662-1777665600-1777672800@berkshires.org
SUMMARY:Sing for Your Slumber Series
DESCRIPTION:Join us for fantastic live\, local music. Bring friends\, grab a beverage\, and enjoy! All shows begin at 8:00 pm.\n03/01: Oshima Brothers\n03/05: The Baker’s Basement  \n03/13: Lia Kohl + Zachary Good \n03/15: Almost Olive \n03/19: Huey + Jacob Kynard\n04/02: Takaat \n05/01: Whitney Johnson + Lia Kohl + Macie Stewart
URL:https://berkshires.org/events/sing-for-your-slumber-series/2026-05-01/
LOCATION:TOURISTS\, 915 State Road\, North Adams\, MA\, 01247\, United States
ATTACH;FMTTYPE=image/png:https://berkshires.org/wp-content/uploads/2026/02/Untitled-design-2026-02-26T120228.478.png
ORGANIZER;CN="TOURISTS":MAILTO:theteam@touristswelcome.com
GEO:42.7008973;-73.1673163
X-APPLE-STRUCTURED-LOCATION;VALUE=URI;X-ADDRESS=TOURISTS 915 State Road North Adams MA 01247 United States;X-APPLE-RADIUS=500;X-TITLE=915 State Road:geo:-73.1673163,42.7008973
END:VEVENT
END:VCALENDAR