BEGIN:VCALENDAR
VERSION:2.0
PRODID:-//Visit the Berkshires of Western MA - ECPv6.15.20//NONSGML v1.0//EN
CALSCALE:GREGORIAN
METHOD:PUBLISH
X-WR-CALNAME:Visit the Berkshires of Western MA
X-ORIGINAL-URL:https://berkshires.org
X-WR-CALDESC:Events for Visit the Berkshires of Western MA
REFRESH-INTERVAL;VALUE=DURATION:PT1H
X-Robots-Tag:noindex
X-PUBLISHED-TTL:PT1H
BEGIN:VTIMEZONE
TZID:America/New_York
BEGIN:DAYLIGHT
TZOFFSETFROM:-0500
TZOFFSETTO:-0400
TZNAME:EDT
DTSTART:20250309T070000
END:DAYLIGHT
BEGIN:STANDARD
TZOFFSETFROM:-0400
TZOFFSETTO:-0500
TZNAME:EST
DTSTART:20251102T060000
END:STANDARD
BEGIN:DAYLIGHT
TZOFFSETFROM:-0500
TZOFFSETTO:-0400
TZNAME:EDT
DTSTART:20260308T070000
END:DAYLIGHT
BEGIN:STANDARD
TZOFFSETFROM:-0400
TZOFFSETTO:-0500
TZNAME:EST
DTSTART:20261101T060000
END:STANDARD
BEGIN:DAYLIGHT
TZOFFSETFROM:-0500
TZOFFSETTO:-0400
TZNAME:EDT
DTSTART:20270314T070000
END:DAYLIGHT
BEGIN:STANDARD
TZOFFSETFROM:-0400
TZOFFSETTO:-0500
TZNAME:EST
DTSTART:20271107T060000
END:STANDARD
END:VTIMEZONE
BEGIN:VEVENT
DTSTART;TZID=America/New_York:20260428T180000
DTEND;TZID=America/New_York:20260428T193000
DTSTAMP:20260421T114630
CREATED:20260212T150950Z
LAST-MODIFIED:20260212T150950Z
UID:10039337-1777399200-1777404600@berkshires.org
SUMMARY:Jacob's Pillow: Experiencing Dance Online Course
DESCRIPTION:Designed for life-long learners who seek to deepen their dance-going experience\, dance educator\, Pillow alum\, and writer Kate Mattingly\, Ph.D.\, will examine different approaches to experience and interpret dance as an audience member\, drawing from the work of artists featured in the upcoming Festival 2026. Participants will explore how live performance is shaped by aesthetics\, artists’ intentions\, and unique context.
URL:https://berkshires.org/events/jacobs-pillow-experiencing-dance-online-course/2026-04-28/
LOCATION:Online
CATEGORIES:Arts and Culture,Class, Workshop, and Open Studios,Online Event,Performing Arts & Entertainment
ATTACH;FMTTYPE=image/jpeg:https://berkshires.org/wp-content/uploads/2026/02/Jacobs-Pillow-online-course-experiencing-dance.jpg
ORGANIZER;CN="Jacob's Pillow":MAILTO:info@jacobspillow.org
END:VEVENT
BEGIN:VEVENT
DTSTART;TZID=America/New_York:20260505T180000
DTEND;TZID=America/New_York:20260505T193000
DTSTAMP:20260421T114630
CREATED:20260212T150950Z
LAST-MODIFIED:20260212T150950Z
UID:10039338-1778004000-1778009400@berkshires.org
SUMMARY:Jacob's Pillow: Experiencing Dance Online Course
DESCRIPTION:Designed for life-long learners who seek to deepen their dance-going experience\, dance educator\, Pillow alum\, and writer Kate Mattingly\, Ph.D.\, will examine different approaches to experience and interpret dance as an audience member\, drawing from the work of artists featured in the upcoming Festival 2026. Participants will explore how live performance is shaped by aesthetics\, artists’ intentions\, and unique context.
URL:https://berkshires.org/events/jacobs-pillow-experiencing-dance-online-course/2026-05-05/
LOCATION:Online
CATEGORIES:Arts and Culture,Class, Workshop, and Open Studios,Online Event,Performing Arts & Entertainment
ATTACH;FMTTYPE=image/jpeg:https://berkshires.org/wp-content/uploads/2026/02/Jacobs-Pillow-online-course-experiencing-dance.jpg
ORGANIZER;CN="Jacob's Pillow":MAILTO:info@jacobspillow.org
END:VEVENT
BEGIN:VEVENT
DTSTART;TZID=America/New_York:20260512T180000
DTEND;TZID=America/New_York:20260512T193000
DTSTAMP:20260421T114630
CREATED:20260212T150950Z
LAST-MODIFIED:20260212T150950Z
UID:10039339-1778608800-1778614200@berkshires.org
SUMMARY:Jacob's Pillow: Experiencing Dance Online Course
DESCRIPTION:Designed for life-long learners who seek to deepen their dance-going experience\, dance educator\, Pillow alum\, and writer Kate Mattingly\, Ph.D.\, will examine different approaches to experience and interpret dance as an audience member\, drawing from the work of artists featured in the upcoming Festival 2026. Participants will explore how live performance is shaped by aesthetics\, artists’ intentions\, and unique context.
URL:https://berkshires.org/events/jacobs-pillow-experiencing-dance-online-course/2026-05-12/
LOCATION:Online
CATEGORIES:Arts and Culture,Class, Workshop, and Open Studios,Online Event,Performing Arts & Entertainment
ATTACH;FMTTYPE=image/jpeg:https://berkshires.org/wp-content/uploads/2026/02/Jacobs-Pillow-online-course-experiencing-dance.jpg
ORGANIZER;CN="Jacob's Pillow":MAILTO:info@jacobspillow.org
END:VEVENT
BEGIN:VEVENT
DTSTART;TZID=America/New_York:20260519T180000
DTEND;TZID=America/New_York:20260519T193000
DTSTAMP:20260421T114630
CREATED:20260212T150950Z
LAST-MODIFIED:20260212T150950Z
UID:10039340-1779213600-1779219000@berkshires.org
SUMMARY:Jacob's Pillow: Experiencing Dance Online Course
DESCRIPTION:Designed for life-long learners who seek to deepen their dance-going experience\, dance educator\, Pillow alum\, and writer Kate Mattingly\, Ph.D.\, will examine different approaches to experience and interpret dance as an audience member\, drawing from the work of artists featured in the upcoming Festival 2026. Participants will explore how live performance is shaped by aesthetics\, artists’ intentions\, and unique context.
URL:https://berkshires.org/events/jacobs-pillow-experiencing-dance-online-course/2026-05-19/
LOCATION:Online
CATEGORIES:Arts and Culture,Class, Workshop, and Open Studios,Online Event,Performing Arts & Entertainment
ATTACH;FMTTYPE=image/jpeg:https://berkshires.org/wp-content/uploads/2026/02/Jacobs-Pillow-online-course-experiencing-dance.jpg
ORGANIZER;CN="Jacob's Pillow":MAILTO:info@jacobspillow.org
END:VEVENT
BEGIN:VEVENT
DTSTART;TZID=America/New_York:20260526T180000
DTEND;TZID=America/New_York:20260526T193000
DTSTAMP:20260421T114630
CREATED:20260212T150950Z
LAST-MODIFIED:20260212T150950Z
UID:10039341-1779818400-1779823800@berkshires.org
SUMMARY:Jacob's Pillow: Experiencing Dance Online Course
DESCRIPTION:Designed for life-long learners who seek to deepen their dance-going experience\, dance educator\, Pillow alum\, and writer Kate Mattingly\, Ph.D.\, will examine different approaches to experience and interpret dance as an audience member\, drawing from the work of artists featured in the upcoming Festival 2026. Participants will explore how live performance is shaped by aesthetics\, artists’ intentions\, and unique context.
URL:https://berkshires.org/events/jacobs-pillow-experiencing-dance-online-course/2026-05-26/
LOCATION:Online
CATEGORIES:Arts and Culture,Class, Workshop, and Open Studios,Online Event,Performing Arts & Entertainment
ATTACH;FMTTYPE=image/jpeg:https://berkshires.org/wp-content/uploads/2026/02/Jacobs-Pillow-online-course-experiencing-dance.jpg
ORGANIZER;CN="Jacob's Pillow":MAILTO:info@jacobspillow.org
END:VEVENT
BEGIN:VEVENT
DTSTART;TZID=America/New_York:20260602T180000
DTEND;TZID=America/New_York:20260602T193000
DTSTAMP:20260421T114630
CREATED:20260212T150950Z
LAST-MODIFIED:20260212T150950Z
UID:10039342-1780423200-1780428600@berkshires.org
SUMMARY:Jacob's Pillow: Experiencing Dance Online Course
DESCRIPTION:Designed for life-long learners who seek to deepen their dance-going experience\, dance educator\, Pillow alum\, and writer Kate Mattingly\, Ph.D.\, will examine different approaches to experience and interpret dance as an audience member\, drawing from the work of artists featured in the upcoming Festival 2026. Participants will explore how live performance is shaped by aesthetics\, artists’ intentions\, and unique context.
URL:https://berkshires.org/events/jacobs-pillow-experiencing-dance-online-course/2026-06-02/
LOCATION:Online
CATEGORIES:Arts and Culture,Class, Workshop, and Open Studios,Online Event,Performing Arts & Entertainment
ATTACH;FMTTYPE=image/jpeg:https://berkshires.org/wp-content/uploads/2026/02/Jacobs-Pillow-online-course-experiencing-dance.jpg
ORGANIZER;CN="Jacob's Pillow":MAILTO:info@jacobspillow.org
END:VEVENT
END:VCALENDAR