BEGIN:VCALENDAR
VERSION:2.0
PRODID:-//Visit the Berkshires of Western MA - ECPv6.15.20//NONSGML v1.0//EN
CALSCALE:GREGORIAN
METHOD:PUBLISH
X-WR-CALNAME:Visit the Berkshires of Western MA
X-ORIGINAL-URL:https://berkshires.org
X-WR-CALDESC:Events for Visit the Berkshires of Western MA
REFRESH-INTERVAL;VALUE=DURATION:PT1H
X-Robots-Tag:noindex
X-PUBLISHED-TTL:PT1H
BEGIN:VTIMEZONE
TZID:America/New_York
BEGIN:DAYLIGHT
TZOFFSETFROM:-0500
TZOFFSETTO:-0400
TZNAME:EDT
DTSTART:20250309T070000
END:DAYLIGHT
BEGIN:STANDARD
TZOFFSETFROM:-0400
TZOFFSETTO:-0500
TZNAME:EST
DTSTART:20251102T060000
END:STANDARD
BEGIN:DAYLIGHT
TZOFFSETFROM:-0500
TZOFFSETTO:-0400
TZNAME:EDT
DTSTART:20260308T070000
END:DAYLIGHT
BEGIN:STANDARD
TZOFFSETFROM:-0400
TZOFFSETTO:-0500
TZNAME:EST
DTSTART:20261101T060000
END:STANDARD
BEGIN:DAYLIGHT
TZOFFSETFROM:-0500
TZOFFSETTO:-0400
TZNAME:EDT
DTSTART:20270314T070000
END:DAYLIGHT
BEGIN:STANDARD
TZOFFSETFROM:-0400
TZOFFSETTO:-0500
TZNAME:EST
DTSTART:20271107T060000
END:STANDARD
END:VTIMEZONE
BEGIN:VEVENT
DTSTART;TZID=America/New_York:20260515T100000
DTEND;TZID=America/New_York:20260515T170000
DTSTAMP:20260424T101713
CREATED:20260126T190048Z
LAST-MODIFIED:20260126T190048Z
UID:10038643-1778839200-1778864400@berkshires.org
SUMMARY:Meet the Potter/Spring Cleaning Sale
DESCRIPTION:Spring is in the air\, and our shelves are officially bursting! Come to Hoffman Pottery to meet the artist behind the Works That Dance With ENERGY. ​I’ve been busy as a kiln-fired bee all winter\, and I need to make room for my newest creations. Help me clear the decks and snag some sculptural or functional gems at discounted prices. Want to know how these structures come to life? Just ask!​ For the true treasure hunters\, don’t miss the Bargain Basement—home to discontinued lines and perfectly imperfect seconds.
URL:https://berkshires.org/events/meet-the-potter-spring-cleaning-sale/2026-05-15/
LOCATION:Hoffman Pottery\, 103 Great Barrington Rd\, West Stockbridge\, MA\, 01266\, United States
CATEGORIES:ArtWeek Berkshires Event
ATTACH;FMTTYPE=image/jpeg:https://berkshires.org/wp-content/uploads/2026/01/609x428_EHoffman_Pottery_1_2026.jpg
ORGANIZER;CN="Hoffman Pottery":MAILTO:Elaine@ehoffmanpottery.com
GEO:42.3085792;-73.3686361
X-APPLE-STRUCTURED-LOCATION;VALUE=URI;X-ADDRESS=Hoffman Pottery 103 Great Barrington Rd West Stockbridge MA 01266 United States;X-APPLE-RADIUS=500;X-TITLE=103 Great Barrington Rd:geo:-73.3686361,42.3085792
END:VEVENT
BEGIN:VEVENT
DTSTART;TZID=America/New_York:20260516T100000
DTEND;TZID=America/New_York:20260516T170000
DTSTAMP:20260424T101713
CREATED:20260126T190048Z
LAST-MODIFIED:20260126T190048Z
UID:10038644-1778925600-1778950800@berkshires.org
SUMMARY:Meet the Potter/Spring Cleaning Sale
DESCRIPTION:Spring is in the air\, and our shelves are officially bursting! Come to Hoffman Pottery to meet the artist behind the Works That Dance With ENERGY. ​I’ve been busy as a kiln-fired bee all winter\, and I need to make room for my newest creations. Help me clear the decks and snag some sculptural or functional gems at discounted prices. Want to know how these structures come to life? Just ask!​ For the true treasure hunters\, don’t miss the Bargain Basement—home to discontinued lines and perfectly imperfect seconds.
URL:https://berkshires.org/events/meet-the-potter-spring-cleaning-sale/2026-05-16/
LOCATION:Hoffman Pottery\, 103 Great Barrington Rd\, West Stockbridge\, MA\, 01266\, United States
CATEGORIES:ArtWeek Berkshires Event
ATTACH;FMTTYPE=image/jpeg:https://berkshires.org/wp-content/uploads/2026/01/609x428_EHoffman_Pottery_1_2026.jpg
ORGANIZER;CN="Hoffman Pottery":MAILTO:Elaine@ehoffmanpottery.com
GEO:42.3085792;-73.3686361
X-APPLE-STRUCTURED-LOCATION;VALUE=URI;X-ADDRESS=Hoffman Pottery 103 Great Barrington Rd West Stockbridge MA 01266 United States;X-APPLE-RADIUS=500;X-TITLE=103 Great Barrington Rd:geo:-73.3686361,42.3085792
END:VEVENT
BEGIN:VEVENT
DTSTART;TZID=America/New_York:20260517T100000
DTEND;TZID=America/New_York:20260517T170000
DTSTAMP:20260424T101713
CREATED:20260126T190048Z
LAST-MODIFIED:20260126T190048Z
UID:10038645-1779012000-1779037200@berkshires.org
SUMMARY:Meet the Potter/Spring Cleaning Sale
DESCRIPTION:Spring is in the air\, and our shelves are officially bursting! Come to Hoffman Pottery to meet the artist behind the Works That Dance With ENERGY. ​I’ve been busy as a kiln-fired bee all winter\, and I need to make room for my newest creations. Help me clear the decks and snag some sculptural or functional gems at discounted prices. Want to know how these structures come to life? Just ask!​ For the true treasure hunters\, don’t miss the Bargain Basement—home to discontinued lines and perfectly imperfect seconds.
URL:https://berkshires.org/events/meet-the-potter-spring-cleaning-sale/2026-05-17/
LOCATION:Hoffman Pottery\, 103 Great Barrington Rd\, West Stockbridge\, MA\, 01266\, United States
CATEGORIES:ArtWeek Berkshires Event
ATTACH;FMTTYPE=image/jpeg:https://berkshires.org/wp-content/uploads/2026/01/609x428_EHoffman_Pottery_1_2026.jpg
ORGANIZER;CN="Hoffman Pottery":MAILTO:Elaine@ehoffmanpottery.com
GEO:42.3085792;-73.3686361
X-APPLE-STRUCTURED-LOCATION;VALUE=URI;X-ADDRESS=Hoffman Pottery 103 Great Barrington Rd West Stockbridge MA 01266 United States;X-APPLE-RADIUS=500;X-TITLE=103 Great Barrington Rd:geo:-73.3686361,42.3085792
END:VEVENT
BEGIN:VEVENT
DTSTART;TZID=America/New_York:20260518T100000
DTEND;TZID=America/New_York:20260518T170000
DTSTAMP:20260424T101713
CREATED:20260126T190048Z
LAST-MODIFIED:20260126T190048Z
UID:10038646-1779098400-1779123600@berkshires.org
SUMMARY:Meet the Potter/Spring Cleaning Sale
DESCRIPTION:Spring is in the air\, and our shelves are officially bursting! Come to Hoffman Pottery to meet the artist behind the Works That Dance With ENERGY. ​I’ve been busy as a kiln-fired bee all winter\, and I need to make room for my newest creations. Help me clear the decks and snag some sculptural or functional gems at discounted prices. Want to know how these structures come to life? Just ask!​ For the true treasure hunters\, don’t miss the Bargain Basement—home to discontinued lines and perfectly imperfect seconds.
URL:https://berkshires.org/events/meet-the-potter-spring-cleaning-sale/2026-05-18/
LOCATION:Hoffman Pottery\, 103 Great Barrington Rd\, West Stockbridge\, MA\, 01266\, United States
CATEGORIES:ArtWeek Berkshires Event
ATTACH;FMTTYPE=image/jpeg:https://berkshires.org/wp-content/uploads/2026/01/609x428_EHoffman_Pottery_1_2026.jpg
ORGANIZER;CN="Hoffman Pottery":MAILTO:Elaine@ehoffmanpottery.com
GEO:42.3085792;-73.3686361
X-APPLE-STRUCTURED-LOCATION;VALUE=URI;X-ADDRESS=Hoffman Pottery 103 Great Barrington Rd West Stockbridge MA 01266 United States;X-APPLE-RADIUS=500;X-TITLE=103 Great Barrington Rd:geo:-73.3686361,42.3085792
END:VEVENT
BEGIN:VEVENT
DTSTART;TZID=America/New_York:20260519T100000
DTEND;TZID=America/New_York:20260519T170000
DTSTAMP:20260424T101713
CREATED:20260126T190048Z
LAST-MODIFIED:20260126T190048Z
UID:10038647-1779184800-1779210000@berkshires.org
SUMMARY:Meet the Potter/Spring Cleaning Sale
DESCRIPTION:Spring is in the air\, and our shelves are officially bursting! Come to Hoffman Pottery to meet the artist behind the Works That Dance With ENERGY. ​I’ve been busy as a kiln-fired bee all winter\, and I need to make room for my newest creations. Help me clear the decks and snag some sculptural or functional gems at discounted prices. Want to know how these structures come to life? Just ask!​ For the true treasure hunters\, don’t miss the Bargain Basement—home to discontinued lines and perfectly imperfect seconds.
URL:https://berkshires.org/events/meet-the-potter-spring-cleaning-sale/2026-05-19/
LOCATION:Hoffman Pottery\, 103 Great Barrington Rd\, West Stockbridge\, MA\, 01266\, United States
CATEGORIES:ArtWeek Berkshires Event
ATTACH;FMTTYPE=image/jpeg:https://berkshires.org/wp-content/uploads/2026/01/609x428_EHoffman_Pottery_1_2026.jpg
ORGANIZER;CN="Hoffman Pottery":MAILTO:Elaine@ehoffmanpottery.com
GEO:42.3085792;-73.3686361
X-APPLE-STRUCTURED-LOCATION;VALUE=URI;X-ADDRESS=Hoffman Pottery 103 Great Barrington Rd West Stockbridge MA 01266 United States;X-APPLE-RADIUS=500;X-TITLE=103 Great Barrington Rd:geo:-73.3686361,42.3085792
END:VEVENT
BEGIN:VEVENT
DTSTART;TZID=America/New_York:20260520T100000
DTEND;TZID=America/New_York:20260520T170000
DTSTAMP:20260424T101713
CREATED:20260126T190048Z
LAST-MODIFIED:20260126T190048Z
UID:10038648-1779271200-1779296400@berkshires.org
SUMMARY:Meet the Potter/Spring Cleaning Sale
DESCRIPTION:Spring is in the air\, and our shelves are officially bursting! Come to Hoffman Pottery to meet the artist behind the Works That Dance With ENERGY. ​I’ve been busy as a kiln-fired bee all winter\, and I need to make room for my newest creations. Help me clear the decks and snag some sculptural or functional gems at discounted prices. Want to know how these structures come to life? Just ask!​ For the true treasure hunters\, don’t miss the Bargain Basement—home to discontinued lines and perfectly imperfect seconds.
URL:https://berkshires.org/events/meet-the-potter-spring-cleaning-sale/2026-05-20/
LOCATION:Hoffman Pottery\, 103 Great Barrington Rd\, West Stockbridge\, MA\, 01266\, United States
CATEGORIES:ArtWeek Berkshires Event
ATTACH;FMTTYPE=image/jpeg:https://berkshires.org/wp-content/uploads/2026/01/609x428_EHoffman_Pottery_1_2026.jpg
ORGANIZER;CN="Hoffman Pottery":MAILTO:Elaine@ehoffmanpottery.com
GEO:42.3085792;-73.3686361
X-APPLE-STRUCTURED-LOCATION;VALUE=URI;X-ADDRESS=Hoffman Pottery 103 Great Barrington Rd West Stockbridge MA 01266 United States;X-APPLE-RADIUS=500;X-TITLE=103 Great Barrington Rd:geo:-73.3686361,42.3085792
END:VEVENT
BEGIN:VEVENT
DTSTART;TZID=America/New_York:20260521T100000
DTEND;TZID=America/New_York:20260521T170000
DTSTAMP:20260424T101713
CREATED:20260126T190048Z
LAST-MODIFIED:20260126T190048Z
UID:10038649-1779357600-1779382800@berkshires.org
SUMMARY:Meet the Potter/Spring Cleaning Sale
DESCRIPTION:Spring is in the air\, and our shelves are officially bursting! Come to Hoffman Pottery to meet the artist behind the Works That Dance With ENERGY. ​I’ve been busy as a kiln-fired bee all winter\, and I need to make room for my newest creations. Help me clear the decks and snag some sculptural or functional gems at discounted prices. Want to know how these structures come to life? Just ask!​ For the true treasure hunters\, don’t miss the Bargain Basement—home to discontinued lines and perfectly imperfect seconds.
URL:https://berkshires.org/events/meet-the-potter-spring-cleaning-sale/2026-05-21/
LOCATION:Hoffman Pottery\, 103 Great Barrington Rd\, West Stockbridge\, MA\, 01266\, United States
CATEGORIES:ArtWeek Berkshires Event
ATTACH;FMTTYPE=image/jpeg:https://berkshires.org/wp-content/uploads/2026/01/609x428_EHoffman_Pottery_1_2026.jpg
ORGANIZER;CN="Hoffman Pottery":MAILTO:Elaine@ehoffmanpottery.com
GEO:42.3085792;-73.3686361
X-APPLE-STRUCTURED-LOCATION;VALUE=URI;X-ADDRESS=Hoffman Pottery 103 Great Barrington Rd West Stockbridge MA 01266 United States;X-APPLE-RADIUS=500;X-TITLE=103 Great Barrington Rd:geo:-73.3686361,42.3085792
END:VEVENT
BEGIN:VEVENT
DTSTART;TZID=America/New_York:20260522T100000
DTEND;TZID=America/New_York:20260522T170000
DTSTAMP:20260424T101713
CREATED:20260126T190048Z
LAST-MODIFIED:20260126T190048Z
UID:10038650-1779444000-1779469200@berkshires.org
SUMMARY:Meet the Potter/Spring Cleaning Sale
DESCRIPTION:Spring is in the air\, and our shelves are officially bursting! Come to Hoffman Pottery to meet the artist behind the Works That Dance With ENERGY. ​I’ve been busy as a kiln-fired bee all winter\, and I need to make room for my newest creations. Help me clear the decks and snag some sculptural or functional gems at discounted prices. Want to know how these structures come to life? Just ask!​ For the true treasure hunters\, don’t miss the Bargain Basement—home to discontinued lines and perfectly imperfect seconds.
URL:https://berkshires.org/events/meet-the-potter-spring-cleaning-sale/2026-05-22/
LOCATION:Hoffman Pottery\, 103 Great Barrington Rd\, West Stockbridge\, MA\, 01266\, United States
CATEGORIES:ArtWeek Berkshires Event
ATTACH;FMTTYPE=image/jpeg:https://berkshires.org/wp-content/uploads/2026/01/609x428_EHoffman_Pottery_1_2026.jpg
ORGANIZER;CN="Hoffman Pottery":MAILTO:Elaine@ehoffmanpottery.com
GEO:42.3085792;-73.3686361
X-APPLE-STRUCTURED-LOCATION;VALUE=URI;X-ADDRESS=Hoffman Pottery 103 Great Barrington Rd West Stockbridge MA 01266 United States;X-APPLE-RADIUS=500;X-TITLE=103 Great Barrington Rd:geo:-73.3686361,42.3085792
END:VEVENT
BEGIN:VEVENT
DTSTART;TZID=America/New_York:20260523T100000
DTEND;TZID=America/New_York:20260523T170000
DTSTAMP:20260424T101713
CREATED:20260126T190048Z
LAST-MODIFIED:20260126T190048Z
UID:10038651-1779530400-1779555600@berkshires.org
SUMMARY:Meet the Potter/Spring Cleaning Sale
DESCRIPTION:Spring is in the air\, and our shelves are officially bursting! Come to Hoffman Pottery to meet the artist behind the Works That Dance With ENERGY. ​I’ve been busy as a kiln-fired bee all winter\, and I need to make room for my newest creations. Help me clear the decks and snag some sculptural or functional gems at discounted prices. Want to know how these structures come to life? Just ask!​ For the true treasure hunters\, don’t miss the Bargain Basement—home to discontinued lines and perfectly imperfect seconds.
URL:https://berkshires.org/events/meet-the-potter-spring-cleaning-sale/2026-05-23/
LOCATION:Hoffman Pottery\, 103 Great Barrington Rd\, West Stockbridge\, MA\, 01266\, United States
CATEGORIES:ArtWeek Berkshires Event
ATTACH;FMTTYPE=image/jpeg:https://berkshires.org/wp-content/uploads/2026/01/609x428_EHoffman_Pottery_1_2026.jpg
ORGANIZER;CN="Hoffman Pottery":MAILTO:Elaine@ehoffmanpottery.com
GEO:42.3085792;-73.3686361
X-APPLE-STRUCTURED-LOCATION;VALUE=URI;X-ADDRESS=Hoffman Pottery 103 Great Barrington Rd West Stockbridge MA 01266 United States;X-APPLE-RADIUS=500;X-TITLE=103 Great Barrington Rd:geo:-73.3686361,42.3085792
END:VEVENT
BEGIN:VEVENT
DTSTART;TZID=America/New_York:20260524T100000
DTEND;TZID=America/New_York:20260524T170000
DTSTAMP:20260424T101713
CREATED:20260126T190048Z
LAST-MODIFIED:20260126T190048Z
UID:10038652-1779616800-1779642000@berkshires.org
SUMMARY:Meet the Potter/Spring Cleaning Sale
DESCRIPTION:Spring is in the air\, and our shelves are officially bursting! Come to Hoffman Pottery to meet the artist behind the Works That Dance With ENERGY. ​I’ve been busy as a kiln-fired bee all winter\, and I need to make room for my newest creations. Help me clear the decks and snag some sculptural or functional gems at discounted prices. Want to know how these structures come to life? Just ask!​ For the true treasure hunters\, don’t miss the Bargain Basement—home to discontinued lines and perfectly imperfect seconds.
URL:https://berkshires.org/events/meet-the-potter-spring-cleaning-sale/2026-05-24/
LOCATION:Hoffman Pottery\, 103 Great Barrington Rd\, West Stockbridge\, MA\, 01266\, United States
CATEGORIES:ArtWeek Berkshires Event
ATTACH;FMTTYPE=image/jpeg:https://berkshires.org/wp-content/uploads/2026/01/609x428_EHoffman_Pottery_1_2026.jpg
ORGANIZER;CN="Hoffman Pottery":MAILTO:Elaine@ehoffmanpottery.com
GEO:42.3085792;-73.3686361
X-APPLE-STRUCTURED-LOCATION;VALUE=URI;X-ADDRESS=Hoffman Pottery 103 Great Barrington Rd West Stockbridge MA 01266 United States;X-APPLE-RADIUS=500;X-TITLE=103 Great Barrington Rd:geo:-73.3686361,42.3085792
END:VEVENT
BEGIN:VEVENT
DTSTART;TZID=America/New_York:20260525T100000
DTEND;TZID=America/New_York:20260525T170000
DTSTAMP:20260424T101713
CREATED:20260126T190048Z
LAST-MODIFIED:20260126T190048Z
UID:10038653-1779703200-1779728400@berkshires.org
SUMMARY:Meet the Potter/Spring Cleaning Sale
DESCRIPTION:Spring is in the air\, and our shelves are officially bursting! Come to Hoffman Pottery to meet the artist behind the Works That Dance With ENERGY. ​I’ve been busy as a kiln-fired bee all winter\, and I need to make room for my newest creations. Help me clear the decks and snag some sculptural or functional gems at discounted prices. Want to know how these structures come to life? Just ask!​ For the true treasure hunters\, don’t miss the Bargain Basement—home to discontinued lines and perfectly imperfect seconds.
URL:https://berkshires.org/events/meet-the-potter-spring-cleaning-sale/2026-05-25/
LOCATION:Hoffman Pottery\, 103 Great Barrington Rd\, West Stockbridge\, MA\, 01266\, United States
CATEGORIES:ArtWeek Berkshires Event
ATTACH;FMTTYPE=image/jpeg:https://berkshires.org/wp-content/uploads/2026/01/609x428_EHoffman_Pottery_1_2026.jpg
ORGANIZER;CN="Hoffman Pottery":MAILTO:Elaine@ehoffmanpottery.com
GEO:42.3085792;-73.3686361
X-APPLE-STRUCTURED-LOCATION;VALUE=URI;X-ADDRESS=Hoffman Pottery 103 Great Barrington Rd West Stockbridge MA 01266 United States;X-APPLE-RADIUS=500;X-TITLE=103 Great Barrington Rd:geo:-73.3686361,42.3085792
END:VEVENT
END:VCALENDAR