BEGIN:VCALENDAR
VERSION:2.0
PRODID:-//Visit the Berkshires of Western MA - ECPv6.15.18//NONSGML v1.0//EN
CALSCALE:GREGORIAN
METHOD:PUBLISH
X-WR-CALNAME:Visit the Berkshires of Western MA
X-ORIGINAL-URL:https://berkshires.org
X-WR-CALDESC:Events for Visit the Berkshires of Western MA
REFRESH-INTERVAL;VALUE=DURATION:PT1H
X-Robots-Tag:noindex
X-PUBLISHED-TTL:PT1H
BEGIN:VTIMEZONE
TZID:America/New_York
BEGIN:DAYLIGHT
TZOFFSETFROM:-0500
TZOFFSETTO:-0400
TZNAME:EDT
DTSTART:20250309T070000
END:DAYLIGHT
BEGIN:STANDARD
TZOFFSETFROM:-0400
TZOFFSETTO:-0500
TZNAME:EST
DTSTART:20251102T060000
END:STANDARD
BEGIN:DAYLIGHT
TZOFFSETFROM:-0500
TZOFFSETTO:-0400
TZNAME:EDT
DTSTART:20260308T070000
END:DAYLIGHT
BEGIN:STANDARD
TZOFFSETFROM:-0400
TZOFFSETTO:-0500
TZNAME:EST
DTSTART:20261101T060000
END:STANDARD
BEGIN:DAYLIGHT
TZOFFSETFROM:-0500
TZOFFSETTO:-0400
TZNAME:EDT
DTSTART:20270314T070000
END:DAYLIGHT
BEGIN:STANDARD
TZOFFSETFROM:-0400
TZOFFSETTO:-0500
TZNAME:EST
DTSTART:20271107T060000
END:STANDARD
END:VTIMEZONE
BEGIN:VEVENT
DTSTART;VALUE=DATE:20260626
DTEND;VALUE=DATE:20260627
DTSTAMP:20260419T093809
CREATED:20260106T172243Z
LAST-MODIFIED:20260106T172243Z
UID:10038446-1782432000-1782518399@berkshires.org
SUMMARY:Wilco's Solid Sound
DESCRIPTION:Solid Sound returns to MASS MoCA for 2026! This year’s musical lineup features The Breeders\, Gang of Four\, Billy Bragg\, S.G. Goodman\, L’Rain\, Ryan Davis & The Roadhouse Band\, Sharp Pins\, The Messthetics and James Brandon Lewis\, Hannah Cohen\, and much more. As in festivals past\, it would not be Solid Sound if it didn’t feature multiple headline sets by Wilco alongside band members’ various independent and solo projects. And as previously announced\, this year’s Friday set from Wilco will be a truly once-in-a-lifetime experience\, with Billy Bragg joining the band to perform the songs of Mermaid Avenue.
URL:https://berkshires.org/events/wilcos-solid-sound/2026-06-26/
LOCATION:MASS MoCA\, 87 MASS MoCA Way\, North Adams\, MA\, 01247\, United States
CATEGORIES:Performing Arts & Entertainment
ATTACH;FMTTYPE=image/png:https://berkshires.org/wp-content/uploads/2026/01/Solid-Sound-26.png
ORGANIZER;CN="MASS MoCA":MAILTO:info@massmoca.org
GEO:37.09024;-95.712891
X-APPLE-STRUCTURED-LOCATION;VALUE=URI;X-ADDRESS=MASS MoCA 87 MASS MoCA Way North Adams MA 01247 United States;X-APPLE-RADIUS=500;X-TITLE=87 MASS MoCA Way:geo:-95.712891,37.09024
END:VEVENT
BEGIN:VEVENT
DTSTART;VALUE=DATE:20260627
DTEND;VALUE=DATE:20260628
DTSTAMP:20260419T093809
CREATED:20260106T172243Z
LAST-MODIFIED:20260106T172243Z
UID:10038447-1782518400-1782604799@berkshires.org
SUMMARY:Wilco's Solid Sound
DESCRIPTION:Solid Sound returns to MASS MoCA for 2026! This year’s musical lineup features The Breeders\, Gang of Four\, Billy Bragg\, S.G. Goodman\, L’Rain\, Ryan Davis & The Roadhouse Band\, Sharp Pins\, The Messthetics and James Brandon Lewis\, Hannah Cohen\, and much more. As in festivals past\, it would not be Solid Sound if it didn’t feature multiple headline sets by Wilco alongside band members’ various independent and solo projects. And as previously announced\, this year’s Friday set from Wilco will be a truly once-in-a-lifetime experience\, with Billy Bragg joining the band to perform the songs of Mermaid Avenue.
URL:https://berkshires.org/events/wilcos-solid-sound/2026-06-27/
LOCATION:MASS MoCA\, 87 MASS MoCA Way\, North Adams\, MA\, 01247\, United States
CATEGORIES:Performing Arts & Entertainment
ATTACH;FMTTYPE=image/png:https://berkshires.org/wp-content/uploads/2026/01/Solid-Sound-26.png
ORGANIZER;CN="MASS MoCA":MAILTO:info@massmoca.org
GEO:37.09024;-95.712891
X-APPLE-STRUCTURED-LOCATION;VALUE=URI;X-ADDRESS=MASS MoCA 87 MASS MoCA Way North Adams MA 01247 United States;X-APPLE-RADIUS=500;X-TITLE=87 MASS MoCA Way:geo:-95.712891,37.09024
END:VEVENT
BEGIN:VEVENT
DTSTART;VALUE=DATE:20260628
DTEND;VALUE=DATE:20260629
DTSTAMP:20260419T093809
CREATED:20260106T172243Z
LAST-MODIFIED:20260106T172243Z
UID:10038448-1782604800-1782691199@berkshires.org
SUMMARY:Wilco's Solid Sound
DESCRIPTION:Solid Sound returns to MASS MoCA for 2026! This year’s musical lineup features The Breeders\, Gang of Four\, Billy Bragg\, S.G. Goodman\, L’Rain\, Ryan Davis & The Roadhouse Band\, Sharp Pins\, The Messthetics and James Brandon Lewis\, Hannah Cohen\, and much more. As in festivals past\, it would not be Solid Sound if it didn’t feature multiple headline sets by Wilco alongside band members’ various independent and solo projects. And as previously announced\, this year’s Friday set from Wilco will be a truly once-in-a-lifetime experience\, with Billy Bragg joining the band to perform the songs of Mermaid Avenue.
URL:https://berkshires.org/events/wilcos-solid-sound/2026-06-28/
LOCATION:MASS MoCA\, 87 MASS MoCA Way\, North Adams\, MA\, 01247\, United States
CATEGORIES:Performing Arts & Entertainment
ATTACH;FMTTYPE=image/png:https://berkshires.org/wp-content/uploads/2026/01/Solid-Sound-26.png
ORGANIZER;CN="MASS MoCA":MAILTO:info@massmoca.org
GEO:37.09024;-95.712891
X-APPLE-STRUCTURED-LOCATION;VALUE=URI;X-ADDRESS=MASS MoCA 87 MASS MoCA Way North Adams MA 01247 United States;X-APPLE-RADIUS=500;X-TITLE=87 MASS MoCA Way:geo:-95.712891,37.09024
END:VEVENT
END:VCALENDAR